Workbook

Sheet Mau A2
Q1: Mẫu A2
A2: UBND THÀNH PHỐ HỒ CHÍ MINH | K2: CỘNG HÒA XÃ HỘI CHỦ NGHĨA VIỆT NAM
A3: TRƯỜNG CAO ĐẲNG LÝ TỰ TRỌNG THÀNH PHỐ HỒ CHÍ MINH | K3: Độc lập - Tự do - Hạnh phúc
A4: BẢNG TỔNG KẾT KHỐI LƯỢNG CÔNG VIỆC CỦA GIẢNG VIÊN TRONG NĂM HỌC 2018 - 2019
A5: KHOA : CÔNG NGHỆ THÔNG TIN
A7: TT | B7: Họ và Tên | D7: Thực hiện trong năm học | J7: Số tiết chuẩn giảng dạy cả năm còn lại | K7: Số tiết chuẩn "Học tập, bồi dưỡng chuẩn hóa, bồi dưỡng nâng cao, nghiên cứu khoa học" còn lại | L7: Số tiết chuẩn "Thực tập tại doanh nghiệp hoặc cơ quan chuyên môn" còn lại | M7: Số tiết thừa, thiếu giảng dạy | N7: Số tiết thừa, thiếu "Học tập, bồi dưỡng chuẩn hóa, bồi dưỡng nâng cao, nghiên cứu khoa học" | O7: Số tiết thừa, thiếu "Thực tập tại doanh nghiệp hoặc cơ quan chuyên môn" | P7: Tổng số tiết thừa, thiếu năm học 2018-2019 | Q7: Số tiết thiếu năm học 2017-2018 | R7: Tổng số tiết thừa, thiếu (sau khi cộng số tiết thiếu năm học 2016-2017)
D8: Số tiết quy đổi và đã nhân hệ số | E8: Kiêm nhiệm | F8: Số tiết soạn đề, coi thi, chấm thi | G8: Tổng tiết thực hiện | H8: Số tiết "Học tập, bồi dưỡng chuẩn hóa, bồi dưỡng nâng cao, nghiên cứu khoa học" | I8: Số tiết "Thực tập tại doanh nghiệp hoặc cơ quan chuyên môn"
R9: Khối lượng vượt giờ (tính phụ trội) | S9: Khối lượng thỉnh giảng (tiết thỉnh giảng) | T9: Số tiết thiếu năm học 2017-2018
A10: (1) | B10: (2) | D10: (3) | E10: (4) | F10: (5) | G10: (6) | H10: (7) | I10: (8) | J10: (9) | K10: (10) | L10: (11) | M10: (12) | N10: (13) | O10: (14) | Q10: (15) | R10: (16) | S10: (17) | T10: (18)
A11: 1 | B11: =IF('Mau A1'!B11="","",'Mau A1'!B11) -> Nguyễn Vân | C11: =IF('Mau A1'!C11="","",'Mau A1'!C11) -> Giang | D11: =SUM('Mau A1'!M11:M30) -> 705 | E11: =SUM('Mau A1'!N11:N30) -> 157.5 | F11: =SUM('Mau A1'!O11:O30) -> 0 | G11: =SUM('Mau A1'!P11:P30) -> 862.5 | H11: =SUM('Mau A1'!Q11:Q30) -> 0 | I11: =SUM('Mau A1'!R11:R30) -> 0 | J11: =SUM('Mau A1'!T11:T30) -> 450 | K11: =SUM('Mau A1'!V11:V30) -> 112 | L11: =SUM('Mau A1'!X11:X30) -> 56 | M11: =SUM('Mau A1'!Y11:Y30) -> 412.5 | N11: =SUM('Mau A1'!Z11:Z30) -> -112 | O11: =SUM('Mau A1'!AA11:AA30) -> -56 | P11: =SUM('Mau A1'!AC11:AC30) -> 244.5 | Q11: =SUM('Mau A1'!AB11:AB30) -> 0 | R11: =ROUND(IF(AND(0<M11<200,0<(M11-Q11)<200,N11>=0,O11>=0),M11-Q11,IF(OR(AND(P11>0,P11>200),(P11-Q11)>200),"200",IF(OR(AND(N11<=0,O11=0,P11<200),AND(N11=0,O11<0,P11<200),AND(N11<0,O11<0,P11<200)),P11-Q11, ))),1) -> 200 | S11: =ROUND(IF(AND(N11>0,O11>0,M11<=0,R11=0),P11-Q11,IF(AND(P11>0,R11=200),P11-Q11-R11, )),1) -> 44.5 | T11: =ROUND(IF(SUM(M11:O11)-Q11<0,SUM(M11:O11)-Q11, ),1) -> 0
A12: 2 | B12: =IF('Mau A1'!B31="","",'Mau A1'!B31) -> Nguyễn | C12: =IF('Mau A1'!C31="","",'Mau A1'!C31) -> Khoa | D12: =SUM('Mau A1'!M31:M50) -> 736.1 | E12: =SUM('Mau A1'!N31:N50) -> 213.8 | F12: =SUM('Mau A1'!O31:O50) -> 0 | G12: =SUM('Mau A1'!P31:P50) -> 949.9 | H12: =SUM('Mau A1'!Q31:Q50) -> 0 | I12: =SUM('Mau A1'!R31:R50) -> 0 | J12: =SUM('Mau A1'!T31:T50) -> 450 | K12: =SUM('Mau A1'!V31:V50) -> 112 | L12: =SUM('Mau A1'!X31:X50) -> 56 | M12: =SUM('Mau A1'!Y31:Y50) -> 499.9 | N12: =SUM('Mau A1'!Z31:Z50) -> -112 | O12: =SUM('Mau A1'!AA31:AA50) -> -56 | P12: =SUM('Mau A1'!AC31:AC50) -> 331.9 | Q12: =SUM('Mau A1'!AB31:AB50) -> 0 | R12: =ROUND(IF(AND(0<M12<200,0<(M12-Q12)<200,N12>=0,O12>=0),M12-Q12,IF(OR(AND(P12>0,P12>200),(P12-Q12)>200),"200",IF(OR(AND(N12<=0,O12=0,P12<200),AND(N12=0,O12<0,P12<200),AND(N12<0,O12<0,P12<200)),P12-Q12, ))),1) -> 200 | S12: =ROUND(IF(AND(N12>0,O12>0,M12<=0,R12=0),P12-Q12,IF(AND(P12>0,R12=200),P12-Q12-R12, )),1) -> 131.9 | T12: =ROUND(IF(SUM(M12:O12)-Q12<0,SUM(M12:O12)-Q12, ),1) -> 0
A13: 3 | B13: =IF('Mau A1'!B51="","",'Mau A1'!B51) -> Nguyễn Văn | C13: =IF('Mau A1'!C51="","",'Mau A1'!C51) -> Minh | D13: =SUM('Mau A1'!M51:M70) -> 993 | E13: =SUM('Mau A1'!N51:N70) -> 67.5 | F13: =SUM('Mau A1'!O51:O70) -> 0 | G13: =SUM('Mau A1'!P51:P70) -> 1060.5 | H13: =SUM('Mau A1'!Q51:Q70) -> 0 | I13: =SUM('Mau A1'!R51:R70) -> 0 | J13: =SUM('Mau A1'!T51:T70) -> 450 | K13: =SUM('Mau A1'!V51:V70) -> 112 | L13: =SUM('Mau A1'!X51:X70) -> 56 | M13: =SUM('Mau A1'!Y51:Y70) -> 610.5 | N13: =SUM('Mau A1'!Z51:Z70) -> -112 | O13: =SUM('Mau A1'!AA51:AA70) -> -56 | P13: =SUM('Mau A1'!AC51:AC70) -> 442.5 | Q13: =SUM('Mau A1'!AB51:AB70) -> 0 | R13: =ROUND(IF(AND(0<M13<200,0<(M13-Q13)<200,N13>=0,O13>=0),M13-Q13,IF(OR(AND(P13>0,P13>200),(P13-Q13)>200),"200",IF(OR(AND(N13<=0,O13=0,P13<200),AND(N13=0,O13<0,P13<200),AND(N13<0,O13<0,P13<200)),P13-Q13, ))),1) -> 200 | S13: =ROUND(IF(AND(N13>0,O13>0,M13<=0,R13=0),P13-Q13,IF(AND(P13>0,R13=200),P13-Q13-R13, )),1) -> 242.5 | T13: =ROUND(IF(SUM(M13:O13)-Q13<0,SUM(M13:O13)-Q13, ),1) -> 0
A14: 4 | B14: =IF('Mau A1'!B71="","",'Mau A1'!B71) -> Vũ Thị Thái | C14: =IF('Mau A1'!C71="","",'Mau A1'!C71) -> Linh | D14: =SUM('Mau A1'!M71:M90) -> 784.5 | E14: =SUM('Mau A1'!N71:N90) -> 139.5 | F14: =SUM('Mau A1'!O71:O90) -> 0 | G14: =SUM('Mau A1'!P71:P90) -> 924 | H14: =SUM('Mau A1'!Q71:Q90) -> 0 | I14: =SUM('Mau A1'!R71:R90) -> 0 | J14: =SUM('Mau A1'!T71:T90) -> 450 | K14: =SUM('Mau A1'!V71:V90) -> 112 | L14: =SUM('Mau A1'!X71:X90) -> 56 | M14: =SUM('Mau A1'!Y71:Y90) -> 474 | N14: =SUM('Mau A1'!Z71:Z90) -> -112 | O14: =SUM('Mau A1'!AA71:AA90) -> -56 | P14: =SUM('Mau A1'!AC71:AC90) -> 306 | Q14: =SUM('Mau A1'!AB71:AB90) -> 0 | R14: =ROUND(IF(AND(0<M14<200,0<(M14-Q14)<200,N14>=0,O14>=0),M14-Q14,IF(OR(AND(P14>0,P14>200),(P14-Q14)>200),"200",IF(OR(AND(N14<=0,O14=0,P14<200),AND(N14=0,O14<0,P14<200),AND(N14<0,O14<0,P14<200)),P14-Q14, ))),1) -> 200 | S14: =ROUND(IF(AND(N14>0,O14>0,M14<=0,R14=0),P14-Q14,IF(AND(P14>0,R14=200),P14-Q14-R14, )),1) -> 106 | T14: =ROUND(IF(SUM(M14:O14)-Q14<0,SUM(M14:O14)-Q14, ),1) -> 0
A15: 5 | B15: =IF('Mau A1'!B91="","",'Mau A1'!B91) -> Nguyễn Văn | C15: =IF('Mau A1'!C91="","",'Mau A1'!C91) -> Danh | D15: =SUM('Mau A1'!M91:M111) -> 1113 | E15: =SUM('Mau A1'!N91:N111) -> 67.5 | F15: =SUM('Mau A1'!O91:O111) -> 0 | G15: =SUM('Mau A1'!P91:P111) -> 1180.5 | H15: =SUM('Mau A1'!Q91:Q111) -> 0 | I15: =SUM('Mau A1'!R91:R111) -> 0 | J15: =SUM('Mau A1'!T91:T111) -> 450 | K15: =SUM('Mau A1'!V91:V111) -> 112 | L15: =SUM('Mau A1'!X91:X111) -> 56 | M15: =SUM('Mau A1'!Y91:Y111) -> 730.5 | N15: =SUM('Mau A1'!Z91:Z111) -> -112 | O15: =SUM('Mau A1'!AA91:AA111) -> -56 | P15: =SUM('Mau A1'!AC91:AC111) -> 562.5 | Q15: =SUM('Mau A1'!AB91:AB111) -> 0 | R15: =ROUND(IF(AND(0<M15<200,0<(M15-Q15)<200,N15>=0,O15>=0),M15-Q15,IF(OR(AND(P15>0,P15>200),(P15-Q15)>200),"200",IF(OR(AND(N15<=0,O15=0,P15<200),AND(N15=0,O15<0,P15<200),AND(N15<0,O15<0,P15<200)),P15-Q15, ))),1) -> 200 | S15: =ROUND(IF(AND(N15>0,O15>0,M15<=0,R15=0),P15-Q15,IF(AND(P15>0,R15=200),P15-Q15-R15, )),1) -> 362.5 | T15: =ROUND(IF(SUM(M15:O15)-Q15<0,SUM(M15:O15)-Q15, ),1) -> 0
A16: 6 | B16: =IF('Mau A1'!B112="","",'Mau A1'!B112) -> Nguyễn Thị | C16: =IF('Mau A1'!C112="","",'Mau A1'!C112) -> Thủy | D16: =SUM('Mau A1'!M112:M130) -> 777 | E16: =SUM('Mau A1'!N112:N130) -> 67.5 | F16: =SUM('Mau A1'!O112:O130) -> 0 | G16: =SUM('Mau A1'!P112:P130) -> 844.5 | H16: =SUM('Mau A1'!Q112:Q130) -> 0 | I16: =SUM('Mau A1'!R112:R130) -> 0 | J16: =SUM('Mau A1'!T112:T130) -> 450 | K16: =SUM('Mau A1'!V112:V130) -> 112 | L16: =SUM('Mau A1'!X112:X130) -> 56 | M16: =SUM('Mau A1'!Y112:Y130) -> 394.5 | N16: =SUM('Mau A1'!Z112:Z130) -> -112 | O16: =SUM('Mau A1'!AA112:AA130) -> -56 | P16: =SUM('Mau A1'!AC112:AC130) -> 226.5 | Q16: =SUM('Mau A1'!AB112:AB130) -> 0 | R16: =ROUND(IF(AND(0<M16<200,0<(M16-Q16)<200,N16>=0,O16>=0),M16-Q16,IF(OR(AND(P16>0,P16>200),(P16-Q16)>200),"200",IF(OR(AND(N16<=0,O16=0,P16<200),AND(N16=0,O16<0,P16<200),AND(N16<0,O16<0,P16<200)),P16-Q16, ))),1) -> 200 | S16: =ROUND(IF(AND(N16>0,O16>0,M16<=0,R16=0),P16-Q16,IF(AND(P16>0,R16=200),P16-Q16-R16, )),1) -> 26.5 | T16: =ROUND(IF(SUM(M16:O16)-Q16<0,SUM(M16:O16)-Q16, ),1) -> 0
A17: 7 | B17: =IF('Mau A1'!B131="","",'Mau A1'!B131) -> Nguyễn Thị Thu | C17: =IF('Mau A1'!C131="","",'Mau A1'!C131) -> Hồng | D17: =SUM('Mau A1'!M131:M150) -> 761.2 | E17: =SUM('Mau A1'!N131:N150) -> 67.5 | F17: =SUM('Mau A1'!O131:O150) -> 0 | G17: =SUM('Mau A1'!P131:P150) -> 828.7 | H17: =SUM('Mau A1'!Q131:Q150) -> 0 | I17: =SUM('Mau A1'!R131:R150) -> 0 | J17: =SUM('Mau A1'!T131:T150) -> 450 | K17: =SUM('Mau A1'!V131:V150) -> 112 | L17: =SUM('Mau A1'!X131:X150) -> 56 | M17: =SUM('Mau A1'!Y131:Y150) -> 378.7 | N17: =SUM('Mau A1'!Z131:Z150) -> -112 | O17: =SUM('Mau A1'!AA131:AA150) -> -56 | P17: =SUM('Mau A1'!AC131:AC150) -> 210.7 | Q17: =SUM('Mau A1'!AB131:AB150) -> 0 | R17: =ROUND(IF(AND(0<M17<200,0<(M17-Q17)<200,N17>=0,O17>=0),M17-Q17,IF(OR(AND(P17>0,P17>200),(P17-Q17)>200),"200",IF(OR(AND(N17<=0,O17=0,P17<200),AND(N17=0,O17<0,P17<200),AND(N17<0,O17<0,P17<200)),P17-Q17, ))),1) -> 200 | S17: =ROUND(IF(AND(N17>0,O17>0,M17<=0,R17=0),P17-Q17,IF(AND(P17>0,R17=200),P17-Q17-R17, )),1) -> 10.7 | T17: =ROUND(IF(SUM(M17:O17)-Q17<0,SUM(M17:O17)-Q17, ),1) -> 0
A18: 8 | B18: =IF('Mau A1'!B151="","",'Mau A1'!B151) -> Lê Hồng | C18: =IF('Mau A1'!C151="","",'Mau A1'!C151) -> Thái | D18: =SUM('Mau A1'!M151:M170) -> 509.1 | E18: =SUM('Mau A1'!N151:N170) -> 0 | F18: =SUM('Mau A1'!O151:O170) -> 0 | G18: =SUM('Mau A1'!P151:P170) -> 509.1 | H18: =SUM('Mau A1'!Q151:Q170) -> 0 | I18: =SUM('Mau A1'!R151:R170) -> 0 | J18: =SUM('Mau A1'!T151:T170) -> 267.2 | K18: =SUM('Mau A1'!V151:V170) -> 112 | L18: =SUM('Mau A1'!X151:X170) -> 56 | M18: =SUM('Mau A1'!Y151:Y170) -> 241.9 | N18: =SUM('Mau A1'!Z151:Z170) -> -112 | O18: =SUM('Mau A1'!AA151:AA170) -> -56 | P18: =SUM('Mau A1'!AC151:AC170) -> 73.9 | Q18: =SUM('Mau A1'!AB151:AB170) -> 0 | R18: =ROUND(IF(AND(0<M18<200,0<(M18-Q18)<200,N18>=0,O18>=0),M18-Q18,IF(OR(AND(P18>0,P18>200),(P18-Q18)>200),"200",IF(OR(AND(N18<=0,O18=0,P18<200),AND(N18=0,O18<0,P18<200),AND(N18<0,O18<0,P18<200)),P18-Q18, ))),1) -> 73.9 | S18: =ROUND(IF(AND(N18>0,O18>0,M18<=0,R18=0),P18-Q18,IF(AND(P18>0,R18=200),P18-Q18-R18, )),1) -> 0 | T18: =ROUND(IF(SUM(M18:O18)-Q18<0,SUM(M18:O18)-Q18, ),1) -> 0
A19: 9 | B19: =IF('Mau A1'!B171="","",'Mau A1'!B171) -> Huỳnh Quốc | C19: =IF('Mau A1'!C171="","",'Mau A1'!C171) -> Dũng | D19: =SUM('Mau A1'!M171:M190) -> 661.6 | E19: =SUM('Mau A1'!N171) -> 67.5 | F19: =SUM('Mau A1'!O171) -> 0 | G19: =SUM('Mau A1'!P171) -> 729.1 | H19: =SUM('Mau A1'!Q171) -> 0 | I19: =SUM('Mau A1'!R171) -> 44 | J19: =SUM('Mau A1'!T171) -> 450 | K19: =SUM('Mau A1'!V171) -> 112 | L19: =SUM('Mau A1'!X171) -> 56 | M19: =SUM('Mau A1'!Y171) -> 279.1 | N19: =SUM('Mau A1'!$Z$171) -> -112 | O19: =SUM('Mau A1'!AA171) -> -12 | P19: =SUM('Mau A1'!AC171) -> 155.1 | Q19: =SUM('Mau A1'!AB171) -> 0 | R19: =ROUND(IF(AND(0<M19<200,0<(M19-Q19)<200,N19>=0,O19>=0),M19-Q19,IF(OR(AND(P19>0,P19>200),(P19-Q19)>200),"200",IF(OR(AND(N19<=0,O19=0,P19<200),AND(N19=0,O19<0,P19<200),AND(N19<0,O19<0,P19<200)),P19-Q19, ))),1) -> 155.1 | S19: =ROUND(IF(AND(N19>0,O19>0,M19<=0,R19=0),P19-Q19,IF(AND(P19>0,R19=200),P19-Q19-R19, )),1) -> 0 | T19: =ROUND(IF(SUM(M19:O19)-Q19<0,SUM(M19:O19)-Q19, ),1) -> 0
A20: 10 | B20: =IF('Mau A1'!B191="","",'Mau A1'!B191) -> Hồ Ngọc | C20: =IF('Mau A1'!C191="","",'Mau A1'!C191) -> Chi | D20: =SUM('Mau A1'!M191:M211) -> 889.6 | E20: =SUM('Mau A1'!N191) -> 67.5 | F20: =SUM('Mau A1'!O191) -> 0 | G20: =SUM('Mau A1'!P191:P211) -> 957.1 | H20: =SUM('Mau A1'!Q191) -> 0 | I20: =SUM('Mau A1'!R191) -> 44 | J20: =SUM('Mau A1'!T191) -> 450 | K20: =SUM('Mau A1'!V191) -> 112 | L20: =SUM('Mau A1'!X153:X172) -> 56 | M20: =SUM('Mau A1'!Y191) -> 507.1 | N20: =SUM('Mau A1'!$Z$191) -> -112 | O20: =SUM('Mau A1'!AA191) -> -12 | P20: =SUM('Mau A1'!AC191) -> 383.1 | Q20: =SUM('Mau A1'!AB191) -> 0 | R20: =ROUND(IF(AND(0<M20<200,0<(M20-Q20)<200,N20>=0,O20>=0),M20-Q20,IF(OR(AND(P20>0,P20>200),(P20-Q20)>200),"200",IF(OR(AND(N20<=0,O20=0,P20<200),AND(N20=0,O20<0,P20<200),AND(N20<0,O20<0,P20<200)),P20-Q20, ))),1) -> 200 | S20: =ROUND(IF(AND(N20>0,O20>0,M20<=0,R20=0),P20-Q20,IF(AND(P20>0,R20=200),P20-Q20-R20, )),1) -> 183.1 | T20: =ROUND(IF(SUM(M20:O20)-Q20<0,SUM(M20:O20)-Q20, ),1) -> 0
A21: 11 | B21: =IF('Mau A1'!B212="","",'Mau A1'!B212) -> Nguyễn Thị Khánh | C21: =IF('Mau A1'!C212="","",'Mau A1'!C212) -> Thư | D21: =SUM('Mau A1'!M212:M230) -> 740.3 | E21: =SUM('Mau A1'!N212:N230) -> 67.5 | F21: =SUM('Mau A1'!O212:O230) -> 0 | G21: =SUM('Mau A1'!P212:P230) -> 807.8 | H21: =SUM('Mau A1'!Q212:Q230) -> 0 | I21: =SUM('Mau A1'!R212:R230) -> 44 | J21: =SUM('Mau A1'!T212:T230) -> 450 | K21: =SUM('Mau A1'!V212:V230) -> 112 | L21: =SUM('Mau A1'!X212:X230) -> 56 | M21: =SUM('Mau A1'!Y212:Y230) -> 357.8 | N21: =SUM('Mau A1'!Z212:Z230) -> -112 | O21: =SUM('Mau A1'!AA212:AA230) -> -12 | P21: =SUM('Mau A1'!AC212:AC230) -> 233.8 | Q21: =SUM('Mau A1'!AB212:AB230) -> 0 | R21: =ROUND(IF(AND(0<M21<200,0<(M21-Q21)<200,N21>=0,O21>=0),M21-Q21,IF(OR(AND(P21>0,P21>200),(P21-Q21)>200),"200",IF(OR(AND(N21<=0,O21=0,P21<200),AND(N21=0,O21<0,P21<200),AND(N21<0,O21<0,P21<200)),P21-Q21, ))),1) -> 200 | S21: =ROUND(IF(AND(N21>0,O21>0,M21<=0,R21=0),P21-Q21,IF(AND(P21>0,R21=200),P21-Q21-R21, )),1) -> 33.8 | T21: =ROUND(IF(SUM(M21:O21)-Q21<0,SUM(M21:O21)-Q21, ),1) -> 0
A22: 12 | B22: =IF('Mau A1'!B231="","",'Mau A1'!B231) -> Nguyễn Sanh | C22: Cường | D22: =SUM('Mau A1'!M231:M247) -> 906.9 | E22: =SUM('Mau A1'!N231:N247) -> 67.5 | F22: =SUM('Mau A1'!O231:O247) -> 0 | G22: =SUM('Mau A1'!P231:P247) -> 974.4 | H22: =SUM('Mau A1'!Q231:Q247) -> 0 | I22: =SUM('Mau A1'!R231:R247) -> 55 | J22: =SUM('Mau A1'!T231:T247) -> 0 | K22: =SUM('Mau A1'!V231:V247) -> 112 | L22: =SUM('Mau A1'!X231:X247) -> 56 | M22: =SUM('Mau A1'!Y231:Y247) -> 524.4 | N22: =SUM('Mau A1'!Z231:Z247) -> -112 | O22: =SUM('Mau A1'!AA231:AA247) -> -1 | P22: =SUM('Mau A1'!AC231:AC247) -> 411.4 | Q22: =SUM('Mau A1'!AB231:AB247) -> 0 | R22: =ROUND(IF(AND(0<M22<200,0<(M22-Q22)<200,N22>=0,O22>=0),M22-Q22,IF(OR(AND(P22>0,P22>200),(P22-Q22)>200),"200",IF(OR(AND(N22<=0,O22=0,P22<200),AND(N22=0,O22<0,P22<200),AND(N22<0,O22<0,P22<200)),P22-Q22, ))),1) -> 200 | S22: =ROUND(IF(AND(N22>0,O22>0,M22<=0,R22=0),P22-Q22,IF(AND(P22>0,R22=200),P22-Q22-R22, )),1) -> 211.4 | T22: =ROUND(IF(SUM(M22:O22)-Q22<0,SUM(M22:O22)-Q22, ),1) -> 0
A23: 13 | B23: =IF('Mau A1'!B251="","",'Mau A1'!B251) -> Võ Anh | C23: Trang | D23: =SUM('Mau A1'!M251:M268) -> 771.3 | E23: =SUM('Mau A1'!N251:N268) -> 67.5 | F23: =SUM('Mau A1'!O251:O268) -> 0 | G23: =SUM('Mau A1'!P251:P268) -> 838.8 | H23: =SUM('Mau A1'!Q251:Q268) -> 0 | I23: =SUM('Mau A1'!R251:R268) -> 56 | J23: =SUM('Mau A1'!T251:T268) -> 0 | K23: =SUM('Mau A1'!V251:V268) -> 112 | L23: =SUM('Mau A1'!X251:X268) -> 56 | M23: =SUM('Mau A1'!Y251:Y268) -> 388.8 | N23: =SUM('Mau A1'!Z251:Z268) -> -112 | O23: =SUM('Mau A1'!AA251:AA268) -> 0 | P23: =SUM('Mau A1'!AC251:AC268) -> 276.8 | Q23: =SUM('Mau A1'!AB251:AB268) -> 0 | R23: =ROUND(IF(AND(0<M23<200,0<(M23-Q23)<200,N23>=0,O23>=0),M23-Q23,IF(OR(AND(P23>0,P23>200),(P23-Q23)>200),"200",IF(OR(AND(N23<=0,O23=0,P23<200),AND(N23=0,O23<0,P23<200),AND(N23<0,O23<0,P23<200)),P23-Q23, ))),1) -> 200 | S23: =ROUND(IF(AND(N23>0,O23>0,M23<=0,R23=0),P23-Q23,IF(AND(P23>0,R23=200),P23-Q23-R23, )),1) -> 76.8 | T23: =ROUND(IF(SUM(M23:O23)-Q23<0,SUM(M23:O23)-Q23, ),1) -> 0
A24: 14 | B24: =IF('Mau A1'!B271="","",'Mau A1'!B271) -> Ng Ng Hoàng Ngọc | C24: Quyên | D24: =SUM('Mau A1'!J271:K287) -> 535.2 | E24: =SUM('Mau A1'!K271:L287) -> 26 | F24: =SUM('Mau A1'!O252:O269) -> 0 | G24: =SUM('Mau A1'!M271:N287) -> 867.2 | H24: =SUM('Mau A1'!N271:O287) -> 67.5 | I24: =SUM('Mau A1'!O271:P287) -> 867.2 | J24: =SUM('Mau A1'!Q271:Q287) -> 0 | K24: =SUM('Mau A1'!S271:S287) -> 0 | L24: =SUM('Mau A1'!U271:U287) -> 0 | M24: =SUM('Mau A1'!V271:V287) -> 112 | N24: =SUM('Mau A1'!Z271:Z287) -> -112 | O24: =SUM('Mau A1'!AA271:AA287) -> -6 | P24: =SUM('Mau A1'!AC271:AC287) -> 299.2 | Q24: =SUM('Mau A1'!AB271:AB287) -> 0 | R24: =ROUND(IF(AND(0<M24<200,0<(M24-Q24)<200,N24>=0,O24>=0),M24-Q24,IF(OR(AND(P24>0,P24>200),(P24-Q24)>200),"200",IF(OR(AND(N24<=0,O24=0,P24<200),AND(N24=0,O24<0,P24<200),AND(N24<0,O24<0,P24<200)),P24-Q24, ))),1) -> 200 | S24: =ROUND(IF(AND(N24>0,O24>0,M24<=0,R24=0),P24-Q24,IF(AND(P24>0,R24=200),P24-Q24-R24, )),1) -> 99.2 | T24: =ROUND(IF(SUM(M24:O24)-Q24<0,SUM(M24:O24)-Q24, ),1) -> -6
A25: 15 | B25: =IF('Mau A1'!B291="","",'Mau A1'!B291) -> Trần Việt | C25: =IF('Mau A1'!C291="","",'Mau A1'!C291) -> Khánh | D25: =SUM('Mau A1'!M291:M309) -> 935.1 | E25: =SUM('Mau A1'!N291:N309) -> 112.5 | F25: =SUM('Mau A1'!O291:O309) -> 0 | G25: =SUM('Mau A1'!P291:P309) -> 1047.6 | H25: =SUM('Mau A1'!Q291:Q309) -> 0 | I25: =SUM('Mau A1'!R291:R309) -> 50 | J25: =SUM('Mau A1'!T291:T309) -> 450 | K25: =SUM('Mau A1'!V291:V309) -> 112 | L25: =SUM('Mau A1'!X291:X309) -> 56 | M25: =SUM('Mau A1'!Y291:Y309) -> 597.6 | N25: =SUM('Mau A1'!Z291:Z309) -> -112 | O25: =SUM('Mau A1'!AA291:AA309) -> -6 | P25: =SUM('Mau A1'!AC291:AC309) -> 479.6 | Q25: =SUM('Mau A1'!AB291:AB309) -> 0 | R25: =ROUND(IF(AND(0<M25<200,0<(M25-Q25)<200,N25>=0,O25>=0),M25-Q25,IF(OR(AND(P25>0,P25>200),(P25-Q25)>200),"200",IF(OR(AND(N25<=0,O25=0,P25<200),AND(N25=0,O25<0,P25<200),AND(N25<0,O25<0,P25<200)),P25-Q25, ))),1) -> 200 | S25: =ROUND(IF(AND(N25>0,O25>0,M25<=0,R25=0),P25-Q25,IF(AND(P25>0,R25=200),P25-Q25-R25, )),1) -> 279.6 | T25: =ROUND(IF(SUM(M25:O25)-Q25<0,SUM(M25:O25)-Q25, ),1) -> 0
A26: 16 | B26: =IF('Mau A1'!B310="","",'Mau A1'!B310) -> Đỗ Thị Hải | C26: =IF('Mau A1'!C310="","",'Mau A1'!C310) -> Yến | D26: =SUM('Mau A1'!M310:M327) -> 793.7 | E26: =SUM('Mau A1'!N310:N327) -> 67.5 | F26: =SUM('Mau A1'!O310:O327) -> 0 | G26: =SUM('Mau A1'!P310:P327) -> 861.2 | H26: =SUM('Mau A1'!Q310:Q327) -> 0 | I26: =SUM('Mau A1'!R310:R327) -> 55 | J26: =SUM('Mau A1'!T310:T327) -> 450 | K26: =SUM('Mau A1'!V310:V327) -> 112 | L26: =SUM('Mau A1'!X310:X327) -> 56 | M26: =SUM('Mau A1'!Y310:Y327) -> 411.2 | N26: =SUM('Mau A1'!Z310:Z327) -> -112 | O26: =SUM('Mau A1'!AA310:AA327) -> -1 | P26: =SUM('Mau A1'!AC310:AC327) -> 298.2 | Q26: =SUM('Mau A1'!AB310:AB327) -> 0 | R26: =ROUND(IF(AND(0<M26<200,0<(M26-Q26)<200,N26>=0,O26>=0),M26-Q26,IF(OR(AND(P26>0,P26>200),(P26-Q26)>200),"200",IF(OR(AND(N26<=0,O26=0,P26<200),AND(N26=0,O26<0,P26<200),AND(N26<0,O26<0,P26<200)),P26-Q26, ))),1) -> 200 | S26: =ROUND(IF(AND(N26>0,O26>0,M26<=0,R26=0),P26-Q26,IF(AND(P26>0,R26=200),P26-Q26-R26, )),1) -> 98.2 | T26: =ROUND(IF(SUM(M26:O26)-Q26<0,SUM(M26:O26)-Q26, ),1) -> 0
A27: 17 | B27: =IF('Mau A1'!B328="","",'Mau A1'!B328) -> Trần Vĩnh | C27: =IF('Mau A1'!C328="","",'Mau A1'!C328) -> Xuyên | D27: =SUM('Mau A1'!M328:M347) -> 967 | E27: =SUM('Mau A1'!N328:N347) -> 67.5 | F27: =SUM('Mau A1'!O328:O347) -> 0 | G27: =SUM('Mau A1'!P328:P347) -> 1034.5 | H27: =SUM('Mau A1'!Q328:Q347) -> 0 | I27: =SUM('Mau A1'!R328:R347) -> 52 | J27: =SUM('Mau A1'!T328:T347) -> 450 | K27: =SUM('Mau A1'!V328:V347) -> 112 | L27: =SUM('Mau A1'!X328:X347) -> 56 | M27: =SUM('Mau A1'!Y328:Y347) -> 584.5 | N27: =SUM('Mau A1'!Z328:Z347) -> -112 | O27: =SUM('Mau A1'!AA328:AA347) -> -4 | P27: =SUM('Mau A1'!AC328:AC347) -> 468.5 | Q27: =SUM('Mau A1'!AB328:AB347) -> 0 | R27: =ROUND(IF(AND(0<M27<200,0<(M27-Q27)<200,N27>=0,O27>=0),M27-Q27,IF(OR(AND(P27>0,P27>200),(P27-Q27)>200),"200",IF(OR(AND(N27<=0,O27=0,P27<200),AND(N27=0,O27<0,P27<200),AND(N27<0,O27<0,P27<200)),P27-Q27, ))),1) -> 200 | S27: =ROUND(IF(AND(N27>0,O27>0,M27<=0,R27=0),P27-Q27,IF(AND(P27>0,R27=200),P27-Q27-R27, )),1) -> 268.5 | T27: =ROUND(IF(SUM(M27:O27)-Q27<0,SUM(M27:O27)-Q27, ),1) -> 0
A28: 18 | B28: =IF('Mau A1'!B348="","",'Mau A1'!B348) -> Nguyễn Cao | C28: =IF('Mau A1'!C348="","",'Mau A1'!C348) -> Phong | D28: =SUM('Mau A1'!M348:M370) -> 1101.5 | E28: =SUM('Mau A1'!N348:N370) -> 89.5 | F28: =SUM('Mau A1'!O348:O370) -> 0 | G28: =SUM('Mau A1'!P348:P370) -> 1191 | H28: =SUM('Mau A1'!Q348:Q370) -> 0 | I28: =SUM('Mau A1'!R348:R370) -> 35 | J28: =SUM('Mau A1'!T348:T370) -> 450 | K28: =SUM('Mau A1'!V348:V370) -> 112 | L28: =SUM('Mau A1'!X348:X370) -> 56 | M28: =SUM('Mau A1'!Y348:Y370) -> 741 | N28: =SUM('Mau A1'!Z348:Z370) -> -112 | O28: =SUM('Mau A1'!AA348:AA370) -> -21 | P28: =SUM('Mau A1'!AC348:AC370) -> 608 | Q28: =SUM('Mau A1'!AB348:AB370) -> 0 | R28: =ROUND(IF(AND(0<M28<200,0<(M28-Q28)<200,N28>=0,O28>=0),M28-Q28,IF(OR(AND(P28>0,P28>200),(P28-Q28)>200),"200",IF(OR(AND(N28<=0,O28=0,P28<200),AND(N28=0,O28<0,P28<200),AND(N28<0,O28<0,P28<200)),P28-Q28, ))),1) -> 200 | S28: =ROUND(IF(AND(N28>0,O28>0,M28<=0,R28=0),P28-Q28,IF(AND(P28>0,R28=200),P28-Q28-R28, )),1) -> 408 | T28: =ROUND(IF(SUM(M28:O28)-Q28<0,SUM(M28:O28)-Q28, ),1) -> 0
A29: 19 | B29: =IF('Mau A1'!B371="","",'Mau A1'!B371) -> Mai Chiếm | C29: =IF('Mau A1'!C371="","",'Mau A1'!C371) -> Tuấn | D29: =SUM('Mau A1'!M371:M384) -> 852 | E29: =SUM('Mau A1'!N371:N384) -> 67.5 | F29: =SUM('Mau A1'!O371:O384) -> 0 | G29: =SUM('Mau A1'!P371:P384) -> 919.5 | H29: =SUM('Mau A1'!Q371:Q384) -> 0 | I29: =SUM('Mau A1'!R371:R384) -> 55 | J29: =SUM('Mau A1'!T371:T384) -> 450 | K29: =SUM('Mau A1'!V371:V384) -> 112 | L29: =SUM('Mau A1'!X371:X384) -> 56 | M29: =SUM('Mau A1'!Y371:Y384) -> 469.5 | N29: =SUM('Mau A1'!Z371:Z384) -> -112 | O29: =SUM('Mau A1'!AA371:AA384) -> -1 | P29: =SUM('Mau A1'!AC371:AC384) -> 356.5 | Q29: =SUM('Mau A1'!AB371:AB384) -> 0 | R29: =ROUND(IF(AND(0<M29<200,0<(M29-Q29)<200,N29>=0,O29>=0),M29-Q29,IF(OR(AND(P29>0,P29>200),(P29-Q29)>200),"200",IF(OR(AND(N29<=0,O29=0,P29<200),AND(N29=0,O29<0,P29<200),AND(N29<0,O29<0,P29<200)),P29-Q29, ))),1) -> 200 | S29: =ROUND(IF(AND(N29>0,O29>0,M29<=0,R29=0),P29-Q29,IF(AND(P29>0,R29=200),P29-Q29-R29, )),1) -> 156.5 | T29: =ROUND(IF(SUM(M29:O29)-Q29<0,SUM(M29:O29)-Q29, ),1) -> 0
A30: 20 | B30: =IF('Mau A1'!B385="","",'Mau A1'!B385) -> Lê Quý Hưng | C30: =IF('Mau A1'!C385="","",'Mau A1'!C385) -> Quốc | D30: =SUM('Mau A1'!M385:M406) -> 1042.7 | E30: =SUM('Mau A1'!N385:N406) -> 67.5 | F30: =SUM('Mau A1'!O385:O406) -> 0 | G30: =SUM('Mau A1'!P385:P406) -> 1110.2 | H30: =SUM('Mau A1'!Q385:Q406) -> 0 | I30: =SUM('Mau A1'!R385:R406) -> 45 | J30: =SUM('Mau A1'!T385:T406) -> 450 | K30: =SUM('Mau A1'!V385:V406) -> 112 | L30: =SUM('Mau A1'!X385:X406) -> 56 | M30: =SUM('Mau A1'!Y385:Y406) -> 660.2 | N30: =SUM('Mau A1'!Z385:Z406) -> -112 | O30: =SUM('Mau A1'!AA385:AA406) -> -11 | P30: =SUM('Mau A1'!AC385:AC406) -> 537.2 | Q30: =SUM('Mau A1'!AB385:AB406) -> 0 | R30: =ROUND(IF(AND(0<M30<200,0<(M30-Q30)<200,N30>=0,O30>=0),M30-Q30,IF(OR(AND(P30>0,P30>200),(P30-Q30)>200),"200",IF(OR(AND(N30<=0,O30=0,P30<200),AND(N30=0,O30<0,P30<200),AND(N30<0,O30<0,P30<200)),P30-Q30, ))),1) -> 200 | S30: =ROUND(IF(AND(N30>0,O30>0,M30<=0,R30=0),P30-Q30,IF(AND(P30>0,R30=200),P30-Q30-R30, )),1) -> 337.2 | T30: =ROUND(IF(SUM(M30:O30)-Q30<0,SUM(M30:O30)-Q30, ),1) -> 0
A31: 21 | B31: =IF('Mau A1'!B407="","",'Mau A1'!B407) -> Nguyễn Văn | C31: =IF('Mau A1'!C407="","",'Mau A1'!C407) -> Đôn | D31: =SUM('Mau A1'!M407:M437) -> 1002.8 | E31: =SUM('Mau A1'!N407:N437) -> 175.5 | F31: =SUM('Mau A1'!O407:O437) -> 0 | G31: =SUM('Mau A1'!P407:P437) -> 1178.3 | H31: =SUM('Mau A1'!Q407:Q437) -> 42.9 | I31: =SUM('Mau A1'!R407:R437) -> 56 | J31: =SUM('Mau A1'!T407:T437) -> 450 | K31: =SUM('Mau A1'!V407:V437) -> 112 | L31: =SUM('Mau A1'!X407:X437) -> 56 | M31: =SUM('Mau A1'!Y407:Y437) -> 728.3 | N31: =SUM('Mau A1'!Z407:Z437) -> -69.1 | O31: =SUM('Mau A1'!AA407:AA437) -> 0 | P31: =SUM('Mau A1'!AC407:AC437) -> 659.2 | Q31: =SUM('Mau A1'!AB407:AB437) -> 0 | R31: =ROUND(IF(AND(0<M31<200,0<(M31-Q31)<200,N31>=0,O31>=0),M31-Q31,IF(OR(AND(P31>0,P31>200),(P31-Q31)>200),"200",IF(OR(AND(N31<=0,O31=0,P31<200),AND(N31=0,O31<0,P31<200),AND(N31<0,O31<0,P31<200)),P31-Q31, ))),1) -> 200 | S31: =ROUND(IF(AND(N31>0,O31>0,M31<=0,R31=0),P31-Q31,IF(AND(P31>0,R31=200),P31-Q31-R31, )),1) -> 459.2 | T31: =ROUND(IF(SUM(M31:O31)-Q31<0,SUM(M31:O31)-Q31, ),1) -> 0
A32: 22 | B32: =IF('Mau A1'!B444="","",'Mau A1'!B444) -> Bùi Văn | C32: =IF('Mau A1'!C444="","",'Mau A1'!C444) -> Dũng | D32: =SUM('Mau A1'!M444:M465) -> 754.3 | E32: =SUM('Mau A1'!N444:N465) -> 67.5 | F32: =SUM('Mau A1'!O444:O465) -> 0 | G32: =SUM('Mau A1'!P444:P465) -> 821.8 | H32: =SUM('Mau A1'!Q444:Q465) -> 0 | I32: =SUM('Mau A1'!R444:R465) -> 56 | J32: =SUM('Mau A1'!T444:T465) -> 450 | K32: =SUM('Mau A1'!V444:V465) -> 112 | L32: =SUM('Mau A1'!X444:X465) -> 56 | M32: =SUM('Mau A1'!Y444:Y465) -> 371.8 | N32: =SUM('Mau A1'!Z444:Z465) -> -112 | O32: =SUM('Mau A1'!AA444:AA465) -> 0 | P32: =SUM('Mau A1'!AC444:AC465) -> 259.8 | Q32: =SUM('Mau A1'!AB444:AB465) -> 0 | R32: =ROUND(IF(AND(0<M32<200,0<(M32-Q32)<200,N32>=0,O32>=0),M32-Q32,IF(OR(AND(P32>0,P32>200),(P32-Q32)>200),"200",IF(OR(AND(N32<=0,O32=0,P32<200),AND(N32=0,O32<0,P32<200),AND(N32<0,O32<0,P32<200)),P32-Q32, ))),1) -> 200 | S32: =ROUND(IF(AND(N32>0,O32>0,M32<=0,R32=0),P32-Q32,IF(AND(P32>0,R32=200),P32-Q32-R32, )),1) -> 59.8 | T32: =ROUND(IF(SUM(M32:O32)-Q32<0,SUM(M32:O32)-Q32, ),1) -> 0
A33: 23 | B33: =IF('Mau A1'!B466="","",'Mau A1'!B466) -> Đậng Ngọc | C33: =IF('Mau A1'!C466="","",'Mau A1'!C466) -> Đoàn | D33: =SUM('Mau A1'!M466:M491) -> 1089.3 | E33: =SUM('Mau A1'!N466:N491) -> 67.5 | F33: =SUM('Mau A1'!O466:O491) -> 0 | G33: =SUM('Mau A1'!P466:P491) -> 1156.8 | H33: =SUM('Mau A1'!Q466:Q491) -> 0 | I33: =SUM('Mau A1'!R466:R491) -> 56 | J33: =SUM('Mau A1'!T466:T491) -> 450 | K33: =SUM('Mau A1'!V466:V491) -> 112 | L33: =SUM('Mau A1'!X466:X491) -> 56 | M33: =SUM('Mau A1'!Y466:Y491) -> 706.8 | N33: =SUM('Mau A1'!Z466:Z491) -> -112 | O33: =SUM('Mau A1'!AA466:AA491) -> 0 | P33: =SUM('Mau A1'!AC466:AC491) -> 594.8 | Q33: =SUM('Mau A1'!AB466:AB491) -> 0 | R33: =ROUND(IF(AND(0<M33<200,0<(M33-Q33)<200,N33>=0,O33>=0),M33-Q33,IF(OR(AND(P33>0,P33>200),(P33-Q33)>200),"200",IF(OR(AND(N33<=0,O33=0,P33<200),AND(N33=0,O33<0,P33<200),AND(N33<0,O33<0,P33<200)),P33-Q33, ))),1) -> 200 | S33: =ROUND(IF(AND(N33>0,O33>0,M33<=0,R33=0),P33-Q33,IF(AND(P33>0,R33=200),P33-Q33-R33, )),1) -> 394.8 | T33: =ROUND(IF(SUM(M33:O33)-Q33<0,SUM(M33:O33)-Q33, ),1) -> 0
A34: 24 | B34: =IF('Mau A1'!B492="","",'Mau A1'!B492) -> Lê Tất | C34: =IF('Mau A1'!C492="","",'Mau A1'!C492) -> Đạt | D34: =SUM('Mau A1'!M492:M505) -> 55.3 | E34: =SUM('Mau A1'!N492:N505) -> 4.5 | F34: =SUM('Mau A1'!O492:O505) -> 0 | G34: =SUM('Mau A1'!P492:P505) -> 59.8 | H34: =SUM('Mau A1'!Q492:Q505) -> 0 | I34: =SUM('Mau A1'!R492:R505) -> 41 | J34: =SUM('Mau A1'!T492:T505) -> 450 | K34: =SUM('Mau A1'!V492:V505) -> 112 | L34: =SUM('Mau A1'!X492:X505) -> 56 | M34: =SUM('Mau A1'!Y492:Y505) -> -390.2 | N34: =SUM('Mau A1'!Z492:Z505) -> -112 | O34: =SUM('Mau A1'!AA492:AA505) -> -15 | P34: =SUM('Mau A1'!AC492:AC505) -> -517.2 | Q34: =SUM('Mau A1'!AB492:AB505) -> 0 | R34: =ROUND(IF(AND(0<M34<200,0<(M34-Q34)<200,N34>=0,O34>=0),M34-Q34,IF(OR(AND(P34>0,P34>200),(P34-Q34)>200),"200",IF(OR(AND(N34<=0,O34=0,P34<200),AND(N34=0,O34<0,P34<200),AND(N34<0,O34<0,P34<200)),P34-Q34, ))),1) -> -517.2 | S34: =ROUND(IF(AND(N34>0,O34>0,M34<=0,R34=0),P34-Q34,IF(AND(P34>0,R34=200),P34-Q34-R34, )),1) -> 0 | T34: =ROUND(IF(SUM(M34:O34)-Q34<0,SUM(M34:O34)-Q34, ),1) -> -517.2
A35: 25 | B35: =IF('Mau A1'!B506="","",'Mau A1'!B506) -> Dương Ngọc | C35: =IF('Mau A1'!C506="","",'Mau A1'!C506) -> Vọng | D35: =SUM('Mau A1'!M506:M529) -> 1245.1 | E35: =SUM('Mau A1'!N506:N529) -> 67.5 | F35: =SUM('Mau A1'!O506:O529) -> 0 | G35: =SUM('Mau A1'!P506:P529) -> 1312.6 | H35: =SUM('Mau A1'!Q506:Q529) -> 0 | I35: =SUM('Mau A1'!R506:R529) -> 21 | J35: =SUM('Mau A1'!T506:T529) -> 450 | K35: =SUM('Mau A1'!V506:V529) -> 112 | L35: =SUM('Mau A1'!X506:X529) -> 56 | M35: =SUM('Mau A1'!Y506:Y529) -> 862.6 | N35: =SUM('Mau A1'!Z506:Z529) -> -112 | O35: =SUM('Mau A1'!AA506:AA529) -> -35 | P35: =SUM('Mau A1'!AC506:AC529) -> 715.6 | Q35: =SUM('Mau A1'!AB506:AB529) -> 0 | R35: =ROUND(IF(AND(0<M35<200,0<(M35-Q35)<200,N35>=0,O35>=0),M35-Q35,IF(OR(AND(P35>0,P35>200),(P35-Q35)>200),"200",IF(OR(AND(N35<=0,O35=0,P35<200),AND(N35=0,O35<0,P35<200),AND(N35<0,O35<0,P35<200)),P35-Q35, ))),1) -> 200 | S35: =ROUND(IF(AND(N35>0,O35>0,M35<=0,R35=0),P35-Q35,IF(AND(P35>0,R35=200),P35-Q35-R35, )),1) -> 515.6 | T35: =ROUND(IF(SUM(M35:O35)-Q35<0,SUM(M35:O35)-Q35, ),1) -> 0
A36: 26 | B36: =IF('Mau A1'!B530="","",'Mau A1'!B530) -> Lê Phi | C36: =IF('Mau A1'!C530="","",'Mau A1'!C530) -> Trường | D36: =SUM('Mau A1'!M530:M549) -> 742 | E36: =SUM('Mau A1'!N530:N549) -> 67.5 | F36: =SUM('Mau A1'!O530:O549) -> 0 | G36: =SUM('Mau A1'!P530:P549) -> 809.5 | H36: =SUM('Mau A1'!Q530:Q549) -> 0 | I36: =SUM('Mau A1'!R530:R549) -> 56 | J36: =SUM('Mau A1'!T530:T549) -> 450 | K36: =SUM('Mau A1'!V530:V549) -> 112 | L36: =SUM('Mau A1'!X530:X549) -> 56 | M36: =SUM('Mau A1'!Y530:Y549) -> 359.5 | N36: =SUM('Mau A1'!Z530:Z549) -> -112 | O36: =SUM('Mau A1'!AA530:AA549) -> 0 | P36: =SUM('Mau A1'!AC530:AC549) -> 247.5 | Q36: =SUM('Mau A1'!AB530:AB549) -> 0 | R36: =ROUND(IF(AND(0<M36<200,0<(M36-Q36)<200,N36>=0,O36>=0),M36-Q36,IF(OR(AND(P36>0,P36>200),(P36-Q36)>200),"200",IF(OR(AND(N36<=0,O36=0,P36<200),AND(N36=0,O36<0,P36<200),AND(N36<0,O36<0,P36<200)),P36-Q36, ))),1) -> 200 | S36: =ROUND(IF(AND(N36>0,O36>0,M36<=0,R36=0),P36-Q36,IF(AND(P36>0,R36=200),P36-Q36-R36, )),1) -> 47.5 | T36: =ROUND(IF(SUM(M36:O36)-Q36<0,SUM(M36:O36)-Q36, ),1) -> 0
A37: 27 | B37: =IF('Mau A1'!B550="","",'Mau A1'!B550) -> Nguyễn Ngọc | C37: =IF('Mau A1'!C550="","",'Mau A1'!C550) -> Tuyên | D37: =SUM('Mau A1'!M550:M570) -> 1170.2 | E37: =SUM('Mau A1'!N550:N570) -> 67.5 | F37: =SUM('Mau A1'!O550:O570) -> 0 | G37: =SUM('Mau A1'!P550:P570) -> 1237.7 | H37: =SUM('Mau A1'!Q550:Q570) -> 0 | I37: =SUM('Mau A1'!R550:R570) -> 56 | J37: =SUM('Mau A1'!T550:T570) -> 450 | K37: =SUM('Mau A1'!V550:V570) -> 112 | L37: =SUM('Mau A1'!X550:X570) -> 56 | M37: =SUM('Mau A1'!Y550:Y570) -> 787.7 | N37: =SUM('Mau A1'!Z550:Z570) -> -112 | O37: =SUM('Mau A1'!AA550:AA570) -> 0 | P37: =SUM('Mau A1'!AC550:AC570) -> 675.7 | Q37: =SUM('Mau A1'!AB550:AB570) -> 0 | R37: =ROUND(IF(AND(0<M37<200,0<(M37-Q37)<200,N37>=0,O37>=0),M37-Q37,IF(OR(AND(P37>0,P37>200),(P37-Q37)>200),"200",IF(OR(AND(N37<=0,O37=0,P37<200),AND(N37=0,O37<0,P37<200),AND(N37<0,O37<0,P37<200)),P37-Q37, ))),1) -> 200 | S37: =ROUND(IF(AND(N37>0,O37>0,M37<=0,R37=0),P37-Q37,IF(AND(P37>0,R37=200),P37-Q37-R37, )),1) -> 475.7 | T37: =ROUND(IF(SUM(M37:O37)-Q37<0,SUM(M37:O37)-Q37, ),1) -> 0
A38: 28 | B38: ='Mau A1'!B571 -> Đỗ Tuấn | C38: ='Mau A1'!C571 -> Việt | D38: =SUM('Mau A1'!M571:M579) -> 109.2 | E38: =SUM('Mau A1'!N571:N579) -> 67.5 | F38: =SUM('Mau A1'!O571:O579) -> 0 | G38: =SUM('Mau A1'!P571:P579) -> 176.7 | H38: 0 | I38: 0 | J38: 0 | K38: 0 | L38: 0 | M38: 0 | N38: 0 | O38: 0 | P38: ='Mau A1'!AC571 -> 176.7 | Q38: =SUM('Mau A1'!Z571:Z579) -> 0 | R38: =P38 -> 176.7 | S38: =R38 -> 176.7 | T38: =SUM('Mau A1'!AC571:AC579) -> 176.7
A39: 29 | B39: ='Mau A1'!B580 -> Nguyễn Hữu | C39: ='Mau A1'!C580 -> Thiện | D39: =SUM('Mau A1'!M580:M589) -> 162 | E39: =SUM('Mau A1'!N580:N589) -> 0 | F39: =SUM('Mau A1'!O580:O589) -> 0 | G39: =SUM('Mau A1'!P580:P589) -> 162 | H39: 0 | I39: 0 | J39: 0 | K39: 0 | L39: 0 | M39: 0 | N39: 0 | O39: 0 | P39: ='Mau A1'!AC580 -> 162 | Q39: =SUM('Mau A1'!Z580:Z589) -> 0 | R39: =P39 -> 162 | S39: =R39 -> 162 | T39: =SUM('Mau A1'!AC580:AC589) -> 162
A40: 30 | B40: ='Mau A1'!B590 -> Trần Thị Thu | C40: ='Mau A1'!C590 -> Hà | D40: =SUM('Mau A1'!M590:M599) -> 90 | E40: =SUM('Mau A1'!N590:N599) -> 0 | F40: =SUM('Mau A1'!O590:O599) -> 0 | G40: =SUM('Mau A1'!P590:P599) -> 90 | H40: 0 | I40: 0 | J40: 0 | K40: 0 | L40: 0 | M40: 0 | N40: 0 | O40: 0 | P40: ='Mau A1'!AC590 -> 90 | Q40: =SUM('Mau A1'!Z590:Z599) -> 0 | R40: =P40 -> 90 | S40: =R40 -> 90 | T40: =SUM('Mau A1'!AC590:AC599) -> 90
A41: 31 | B41: ='Mau A1'!B600 -> Nguyễn Ngọc | C41: ='Mau A1'!C600 -> Trang | D41: =SUM('Mau A1'!M600:M609) -> 90 | E41: =SUM('Mau A1'!N600:N609) -> 67.5 | F41: =SUM('Mau A1'!O600:O609) -> 0 | G41: =SUM('Mau A1'!P600:P609) -> 157.5 | H41: 0 | I41: 0 | J41: 0 | K41: 0 | L41: 0 | M41: 0 | N41: 0 | O41: 0 | P41: ='Mau A1'!AC600 -> 157.5 | Q41: =SUM('Mau A1'!Z600:Z609) -> 0 | R41: =P41 -> 157.5 | S41: =R41 -> 157.5 | T41: =SUM('Mau A1'!AC600:AC609) -> 157.5
...

Sheet Mau A1
AB1: Mẫu A1
A2: UBND THÀNH PHỐ HỒ CHÍ MINH | V2: CỘNG HÒA XÃ HỘI CHỦ NGHĨA VIỆT NAM
A3: TRƯỜNG CAO ĐẲNG LÝ TỰ TRỌNG THÀNH PHỐ HỒ CHÍ MINH | V3: Độc lập - Tự do - Hạnh phúc
A4: BẢNG TÍNH KHỐI LƯỢNG CÔNG VIỆC CỦA GIẢNG VIÊN TRONG NĂM HỌC 2018 - 2019
A5: KHOA : CÔNG NGHỆ THÔNG TIN
A7: TT | B7: Họ và Tên | D7: MÃ LỚP HP | E7: Môn dạy | F7: lớp dạy | G7: Học kỳ | H7: Thực hiện trong năm học | S7: Số tiết chuẩn giảng dạy | T7: Số tiết chuẩn giảng dạy còn lại | U7: Số tiết chuẩn "Học tập, bồi dưỡng chuẩn hóa, bồi dưỡng nâng cao, nghiên cứu khoa học" | V7: Số tiết chuẩn "Học tập, bồi dưỡng chuẩn hóa, bồi dưỡng nâng cao, nghiên cứu khoa học" còn lại | W7: Số tiết chuẩn "Thực tập tại doanh nghiệp hoặc cơ quan chuyên môn" | X7: Số tiết chuẩn "Thực tập tại doanh nghiệp hoặc cơ quan chuyên môn" còn lại | Y7: Số tiết thừa, thiếu giảng dạy | Z7: Số tiết thừa, thiếu "Học tập, bồi dưỡng chuẩn hóa, bồi dưỡng nâng cao, nghiên cứu khoa học" | AA7: Số tiết thừa, thiếu "Thực tập tại doanh nghiệp hoặc cơ quan chuyên môn" | AB7: Số tiết thiếu năm học 2017-2018 | AC7: Tổng số tiết thừa, thiếu năm học 2018-2019
H8: Chưa nhân hệ số | J8: Sĩ số LHP | K8: Hệ số | M8: Số tiết quy đổi và đã nhân hệ số | N8: Kiêm nhiệm | O8: Số tiết soạn đề, coi thi, chấm thi | P8: Tổng tiết thực hiện | Q8: Số tiết "Học tập, bồi dưỡng chuẩn hóa, bồi dưỡng nâng cao, nghiên cứu khoa học" | R8: Số tiết "Thực tập tại doanh nghiệp hoặc cơ quan chuyên môn"
H9: LT | I9: TH | J9: Chính thức và học lại | K9: LT | L9: TH
A10: (1) | B10: (2) | E10: (3) | F10: (4) | G10: (5) | H10: (6) | I10: (7) | K10: =IF(OR(LEFT(E10,2)="ĐA",LEFT(E10,2)="DA",LEFT(E10,5)="Đồ án",LEFT(E10,5)="Đồán ",LEFT(E10,9)="Sinh hoạt",LEFT(E10,9)="sinh hoạt",LEFT(E10,6)="Cố vấn",LEFT(E10,6)="cố vấn",LEFT(E10,4)="cvht",LEFT(E10,4)="CVHT",LEFT(E10,4)="shcn",LEFT(E10,4)="SHCN"),0,(IF(AND(H10>0,J10>0),IF(J10>60,1.3,IF(J10>35,1.2,1)),0))) -> 0 | L10: =IF(OR(LEFT(E10,2)="ĐA",LEFT(E10,2)="DA",LEFT(E10,5)="Đồ án",LEFT(E10,5)="Đồán "),0,IF(AND(J10>0,I10>0),IF(AND(OR(LEFT(E10,4)="GDQP",LEFT(E10,4)="gdqp",LEFT(E10,19)="Giáo dục quốc phòng"),J10>50),1.3,IF(J10>35,1.2,IF(J10>29,1.1,1))),0)) -> 0 | M10: =ROUND(IF(OR(LEFT(E10,2)="ĐA",LEFT(E10,2)="DA",LEFT(E10,5)="Đồ án",LEFT(E10,5)="Đồán "),J10*0.5,(IF(H10>0,H10*K10,"0")+IF(I10>0,(I10*0.75)*L10,"0"))),1) -> 0 | N10: (11) | O10: (12) | P10: (13) | Q10: (14) | R10: (15) | T10: (16) | V10: (17) | X10: (18) | Y10: (19) | Z10: (20) | AA10: (21) | AB10: (22) | AC10: (23)
A11: 1 | B11: Nguyễn Vân | C11: Giang | D11: 21100094402 | E11: Cấu trúc dữ liệu và giải thuật | F11: 17C1-CTM1 | G11: 1 | H11: 15 | I11: 60 | J11: 37 | K11: =IF(OR(LEFT(E11,2)="ĐA",LEFT(E11,2)="DA",LEFT(E11,5)="Đồ án",LEFT(E11,5)="Đồán ",LEFT(E11,9)="Sinh hoạt",LEFT(E11,9)="sinh hoạt",LEFT(E11,6)="Cố vấn",LEFT(E11,6)="cố vấn",LEFT(E11,4)="cvht",LEFT(E11,4)="CVHT",LEFT(E11,4)="shcn",LEFT(E11,4)="SHCN"),0,(IF(AND(H11>0,J11>0),IF(J11>60,1.3,IF(J11>35,1.2,1)),0))) -> 1.2 | L11: =IF(OR(LEFT(E11,2)="ĐA",LEFT(E11,2)="DA",LEFT(E11,5)="Đồ án",LEFT(E11,5)="Đồán "),0,IF(AND(J11>0,I11>0),IF(AND(OR(LEFT(E11,4)="GDQP",LEFT(E11,4)="gdqp",LEFT(E11,19)="Giáo dục quốc phòng"),J11>50),1.3,IF(J11>35,1.2,IF(J11>29,1.1,1))),0)) -> 1.2 | M11: =ROUND(IF(OR(LEFT(E11,2)="ĐA",LEFT(E11,2)="DA",LEFT(E11,5)="Đồ án",LEFT(E11,5)="Đồán "),J11*0.5,(IF(H11>0,H11*K11,"0")+IF(I11>0,(I11*0.75)*L11,"0"))),1) -> 72 | N11: 157.5 | O11: 0 | P11: =SUM(M11:M30)+N11+O11 -> 862.5 | Q11: 0 | R11: 0 | S11: 450 | T11: 450 | U11: 112 | V11: 112 | W11: 56 | X11: 56 | Y11: =ROUND((P11-T11),1) -> 412.5 | Z11: =IF(OR(SUM(V11:V30)="",SUM(Q11:Q30)=""),0,IF(OR(SUM(U11:U30)=320,SUM(V11:V30)>0),ROUND((SUM(Q11:Q30)-SUM(V11:V30)),1),0)) -> -112 | AA11: =IF(OR(SUM(X11:X30)="",SUM(R11:R30)=""),0,IF(OR(SUM(W11:W30)=160,SUM(X11:X30)>0),ROUND((SUM(R11:R30)-SUM(X11:X30)),1),0)) -> -56 | AC11: =SUM(Y11:AA30) -> 244.5
D12: 21100094403 | E12: Cấu trúc dữ liệu và giải thuật | F12: 17C1-CTM2 | G12: 1 | H12: 15 | I12: 60 | J12: 33 | K12: =IF(OR(LEFT(E12,2)="ĐA",LEFT(E12,2)="DA",LEFT(E12,5)="Đồ án",LEFT(E12,5)="Đồán ",LEFT(E12,9)="Sinh hoạt",LEFT(E12,9)="sinh hoạt",LEFT(E12,6)="Cố vấn",LEFT(E12,6)="cố vấn",LEFT(E12,4)="cvht",LEFT(E12,4)="CVHT",LEFT(E12,4)="shcn",LEFT(E12,4)="SHCN"),0,(IF(AND(H12>0,J12>0),IF(J12>60,1.3,IF(J12>35,1.2,1)),0))) -> 1 | L12: =IF(OR(LEFT(E12,2)="ĐA",LEFT(E12,2)="DA",LEFT(E12,5)="Đồ án",LEFT(E12,5)="Đồán "),0,IF(AND(J12>0,I12>0),IF(AND(OR(LEFT(E12,4)="GDQP",LEFT(E12,4)="gdqp",LEFT(E12,19)="Giáo dục quốc phòng"),J12>50),1.3,IF(J12>35,1.2,IF(J12>29,1.1,1))),0)) -> 1.1 | M12: =ROUND(IF(OR(LEFT(E12,2)="ĐA",LEFT(E12,2)="DA",LEFT(E12,5)="Đồ án",LEFT(E12,5)="Đồán "),J12*0.5,(IF(H12>0,H12*K12,"0")+IF(I12>0,(I12*0.75)*L12,"0"))),1) -> 64.5
D13: 71400106704 | E13: Kỹ thuật lập trình 1 | F13: 18T4-LTM | G13: 1 | H13: 15 | I13: 60 | J13: 46 | K13: =IF(OR(LEFT(E13,2)="ĐA",LEFT(E13,2)="DA",LEFT(E13,5)="Đồ án",LEFT(E13,5)="Đồán ",LEFT(E13,9)="Sinh hoạt",LEFT(E13,9)="sinh hoạt",LEFT(E13,6)="Cố vấn",LEFT(E13,6)="cố vấn",LEFT(E13,4)="cvht",LEFT(E13,4)="CVHT",LEFT(E13,4)="shcn",LEFT(E13,4)="SHCN"),0,(IF(AND(H13>0,J13>0),IF(J13>60,1.3,IF(J13>35,1.2,1)),0))) -> 1.2 | L13: =IF(OR(LEFT(E13,2)="ĐA",LEFT(E13,2)="DA",LEFT(E13,5)="Đồ án",LEFT(E13,5)="Đồán "),0,IF(AND(J13>0,I13>0),IF(AND(OR(LEFT(E13,4)="GDQP",LEFT(E13,4)="gdqp",LEFT(E13,19)="Giáo dục quốc phòng"),J13>50),1.3,IF(J13>35,1.2,IF(J13>29,1.1,1))),0)) -> 1.2 | M13: =ROUND(IF(OR(LEFT(E13,2)="ĐA",LEFT(E13,2)="DA",LEFT(E13,5)="Đồ án",LEFT(E13,5)="Đồán "),J13*0.5,(IF(H13>0,H13*K13,"0")+IF(I13>0,(I13*0.75)*L13,"0"))),1) -> 72
D14: 71400119002 | E14: Cơ sở dữ liệu | F14: 17T4-LTM | G14: 1 | H14: 15 | I14: 30 | J14: 60 | K14: =IF(OR(LEFT(E14,2)="ĐA",LEFT(E14,2)="DA",LEFT(E14,5)="Đồ án",LEFT(E14,5)="Đồán ",LEFT(E14,9)="Sinh hoạt",LEFT(E14,9)="sinh hoạt",LEFT(E14,6)="Cố vấn",LEFT(E14,6)="cố vấn",LEFT(E14,4)="cvht",LEFT(E14,4)="CVHT",LEFT(E14,4)="shcn",LEFT(E14,4)="SHCN"),0,(IF(AND(H14>0,J14>0),IF(J14>60,1.3,IF(J14>35,1.2,1)),0))) -> 1.2 | L14: =IF(OR(LEFT(E14,2)="ĐA",LEFT(E14,2)="DA",LEFT(E14,5)="Đồ án",LEFT(E14,5)="Đồán "),0,IF(AND(J14>0,I14>0),IF(AND(OR(LEFT(E14,4)="GDQP",LEFT(E14,4)="gdqp",LEFT(E14,19)="Giáo dục quốc phòng"),J14>50),1.3,IF(J14>35,1.2,IF(J14>29,1.1,1))),0)) -> 1.2 | M14: =ROUND(IF(OR(LEFT(E14,2)="ĐA",LEFT(E14,2)="DA",LEFT(E14,5)="Đồ án",LEFT(E14,5)="Đồán "),J14*0.5,(IF(H14>0,H14*K14,"0")+IF(I14>0,(I14*0.75)*L14,"0"))),1) -> 45
D15: 71400119001 | E15: Cơ sở dữ liệu | F15: 17T4-TKW | G15: 1 | H15: 15 | I15: 30 | J15: 27 | K15: =IF(OR(LEFT(E15,2)="ĐA",LEFT(E15,2)="DA",LEFT(E15,5)="Đồ án",LEFT(E15,5)="Đồán ",LEFT(E15,9)="Sinh hoạt",LEFT(E15,9)="sinh hoạt",LEFT(E15,6)="Cố vấn",LEFT(E15,6)="cố vấn",LEFT(E15,4)="cvht",LEFT(E15,4)="CVHT",LEFT(E15,4)="shcn",LEFT(E15,4)="SHCN"),0,(IF(AND(H15>0,J15>0),IF(J15>60,1.3,IF(J15>35,1.2,1)),0))) -> 1 | L15: =IF(OR(LEFT(E15,2)="ĐA",LEFT(E15,2)="DA",LEFT(E15,5)="Đồ án",LEFT(E15,5)="Đồán "),0,IF(AND(J15>0,I15>0),IF(AND(OR(LEFT(E15,4)="GDQP",LEFT(E15,4)="gdqp",LEFT(E15,19)="Giáo dục quốc phòng"),J15>50),1.3,IF(J15>35,1.2,IF(J15>29,1.1,1))),0)) -> 1 | M15: =ROUND(IF(OR(LEFT(E15,2)="ĐA",LEFT(E15,2)="DA",LEFT(E15,5)="Đồ án",LEFT(E15,5)="Đồán "),J15*0.5,(IF(H15>0,H15*K15,"0")+IF(I15>0,(I15*0.75)*L15,"0"))),1) -> 37.5
D16: 21100093903 | E16: Cơ sở dữ liệu | F16: 18C1-LTM1 | G16: 1 | H16: 15 | I16: 30 | J16: 57 | K16: =IF(OR(LEFT(E16,2)="ĐA",LEFT(E16,2)="DA",LEFT(E16,5)="Đồ án",LEFT(E16,5)="Đồán ",LEFT(E16,9)="Sinh hoạt",LEFT(E16,9)="sinh hoạt",LEFT(E16,6)="Cố vấn",LEFT(E16,6)="cố vấn",LEFT(E16,4)="cvht",LEFT(E16,4)="CVHT",LEFT(E16,4)="shcn",LEFT(E16,4)="SHCN"),0,(IF(AND(H16>0,J16>0),IF(J16>60,1.3,IF(J16>35,1.2,1)),0))) -> 1.2 | L16: =IF(OR(LEFT(E16,2)="ĐA",LEFT(E16,2)="DA",LEFT(E16,5)="Đồ án",LEFT(E16,5)="Đồán "),0,IF(AND(J16>0,I16>0),IF(AND(OR(LEFT(E16,4)="GDQP",LEFT(E16,4)="gdqp",LEFT(E16,19)="Giáo dục quốc phòng"),J16>50),1.3,IF(J16>35,1.2,IF(J16>29,1.1,1))),0)) -> 1.2 | M16: =ROUND(IF(OR(LEFT(E16,2)="ĐA",LEFT(E16,2)="DA",LEFT(E16,5)="Đồ án",LEFT(E16,5)="Đồán "),J16*0.5,(IF(H16>0,H16*K16,"0")+IF(I16>0,(I16*0.75)*L16,"0"))),1) -> 45
D17: 21100093901 | E17: Cơ sở dữ liệu | F17: 18C1-CTM1 | G17: 1 | H17: 15 | I17: 30 | J17: 39 | K17: =IF(OR(LEFT(E17,2)="ĐA",LEFT(E17,2)="DA",LEFT(E17,5)="Đồ án",LEFT(E17,5)="Đồán ",LEFT(E17,9)="Sinh hoạt",LEFT(E17,9)="sinh hoạt",LEFT(E17,6)="Cố vấn",LEFT(E17,6)="cố vấn",LEFT(E17,4)="cvht",LEFT(E17,4)="CVHT",LEFT(E17,4)="shcn",LEFT(E17,4)="SHCN"),0,(IF(AND(H17>0,J17>0),IF(J17>60,1.3,IF(J17>35,1.2,1)),0))) -> 1.2 | L17: =IF(OR(LEFT(E17,2)="ĐA",LEFT(E17,2)="DA",LEFT(E17,5)="Đồ án",LEFT(E17,5)="Đồán "),0,IF(AND(J17>0,I17>0),IF(AND(OR(LEFT(E17,4)="GDQP",LEFT(E17,4)="gdqp",LEFT(E17,19)="Giáo dục quốc phòng"),J17>50),1.3,IF(J17>35,1.2,IF(J17>29,1.1,1))),0)) -> 1.2 | M17: =ROUND(IF(OR(LEFT(E17,2)="ĐA",LEFT(E17,2)="DA",LEFT(E17,5)="Đồ án",LEFT(E17,5)="Đồán "),J17*0.5,(IF(H17>0,H17*K17,"0")+IF(I17>0,(I17*0.75)*L17,"0"))),1) -> 45
E18: Kỹ thuật lập trình | F18: 18C1-LTM1 | G18: 2 | H18: 30 | I18: 60 | J18: 50 | K18: =IF(OR(LEFT(E18,2)="ĐA",LEFT(E18,2)="DA",LEFT(E18,5)="Đồ án",LEFT(E18,5)="Đồán ",LEFT(E18,9)="Sinh hoạt",LEFT(E18,9)="sinh hoạt",LEFT(E18,6)="Cố vấn",LEFT(E18,6)="cố vấn",LEFT(E18,4)="cvht",LEFT(E18,4)="CVHT",LEFT(E18,4)="shcn",LEFT(E18,4)="SHCN"),0,(IF(AND(H18>0,J18>0),IF(J18>60,1.3,IF(J18>35,1.2,1)),0))) -> 1.2 | L18: =IF(OR(LEFT(E18,2)="ĐA",LEFT(E18,2)="DA",LEFT(E18,5)="Đồ án",LEFT(E18,5)="Đồán "),0,IF(AND(J18>0,I18>0),IF(AND(OR(LEFT(E18,4)="GDQP",LEFT(E18,4)="gdqp",LEFT(E18,19)="Giáo dục quốc phòng"),J18>50),1.3,IF(J18>35,1.2,IF(J18>29,1.1,1))),0)) -> 1.2 | M18: =ROUND(IF(OR(LEFT(E18,2)="ĐA",LEFT(E18,2)="DA",LEFT(E18,5)="Đồ án",LEFT(E18,5)="Đồán "),J18*0.5,(IF(H18>0,H18*K18,"0")+IF(I18>0,(I18*0.75)*L18,"0"))),1) -> 90
E19: Kỹ thuật lập trình | F19: 18C1-LTM2 | G19: 2 | H19: 30 | I19: 60 | J19: 50 | K19: =IF(OR(LEFT(E19,2)="ĐA",LEFT(E19,2)="DA",LEFT(E19,5)="Đồ án",LEFT(E19,5)="Đồán ",LEFT(E19,9)="Sinh hoạt",LEFT(E19,9)="sinh hoạt",LEFT(E19,6)="Cố vấn",LEFT(E19,6)="cố vấn",LEFT(E19,4)="cvht",LEFT(E19,4)="CVHT",LEFT(E19,4)="shcn",LEFT(E19,4)="SHCN"),0,(IF(AND(H19>0,J19>0),IF(J19>60,1.3,IF(J19>35,1.2,1)),0))) -> 1.2 | L19: =IF(OR(LEFT(E19,2)="ĐA",LEFT(E19,2)="DA",LEFT(E19,5)="Đồ án",LEFT(E19,5)="Đồán "),0,IF(AND(J19>0,I19>0),IF(AND(OR(LEFT(E19,4)="GDQP",LEFT(E19,4)="gdqp",LEFT(E19,19)="Giáo dục quốc phòng"),J19>50),1.3,IF(J19>35,1.2,IF(J19>29,1.1,1))),0)) -> 1.2 | M19: =ROUND(IF(OR(LEFT(E19,2)="ĐA",LEFT(E19,2)="DA",LEFT(E19,5)="Đồ án",LEFT(E19,5)="Đồán "),J19*0.5,(IF(H19>0,H19*K19,"0")+IF(I19>0,(I19*0.75)*L19,"0"))),1) -> 90
E20: Cấu trúc dữ liệu và giải thuật | F20: 18C1-THU1 | G20: 2 | H20: 15 | I20: 60 | J20: 50 | K20: =IF(OR(LEFT(E20,2)="ĐA",LEFT(E20,2)="DA",LEFT(E20,5)="Đồ án",LEFT(E20,5)="Đồán ",LEFT(E20,9)="Sinh hoạt",LEFT(E20,9)="sinh hoạt",LEFT(E20,6)="Cố vấn",LEFT(E20,6)="cố vấn",LEFT(E20,4)="cvht",LEFT(E20,4)="CVHT",LEFT(E20,4)="shcn",LEFT(E20,4)="SHCN"),0,(IF(AND(H20>0,J20>0),IF(J20>60,1.3,IF(J20>35,1.2,1)),0))) -> 1.2 | L20: =IF(OR(LEFT(E20,2)="ĐA",LEFT(E20,2)="DA",LEFT(E20,5)="Đồ án",LEFT(E20,5)="Đồán "),0,IF(AND(J20>0,I20>0),IF(AND(OR(LEFT(E20,4)="GDQP",LEFT(E20,4)="gdqp",LEFT(E20,19)="Giáo dục quốc phòng"),J20>50),1.3,IF(J20>35,1.2,IF(J20>29,1.1,1))),0)) -> 1.2 | M20: =ROUND(IF(OR(LEFT(E20,2)="ĐA",LEFT(E20,2)="DA",LEFT(E20,5)="Đồ án",LEFT(E20,5)="Đồán "),J20*0.5,(IF(H20>0,H20*K20,"0")+IF(I20>0,(I20*0.75)*L20,"0"))),1) -> 72
E21: Kỹ thuật lập trình 2 | F21: 18T4-LTM | G21: 2 | H21: 15 | I21: 60 | J21: 40 | K21: =IF(OR(LEFT(E21,2)="ĐA",LEFT(E21,2)="DA",LEFT(E21,5)="Đồ án",LEFT(E21,5)="Đồán ",LEFT(E21,9)="Sinh hoạt",LEFT(E21,9)="sinh hoạt",LEFT(E21,6)="Cố vấn",LEFT(E21,6)="cố vấn",LEFT(E21,4)="cvht",LEFT(E21,4)="CVHT",LEFT(E21,4)="shcn",LEFT(E21,4)="SHCN"),0,(IF(AND(H21>0,J21>0),IF(J21>60,1.3,IF(J21>35,1.2,1)),0))) -> 1.2 | L21: =IF(OR(LEFT(E21,2)="ĐA",LEFT(E21,2)="DA",LEFT(E21,5)="Đồ án",LEFT(E21,5)="Đồán "),0,IF(AND(J21>0,I21>0),IF(AND(OR(LEFT(E21,4)="GDQP",LEFT(E21,4)="gdqp",LEFT(E21,19)="Giáo dục quốc phòng"),J21>50),1.3,IF(J21>35,1.2,IF(J21>29,1.1,1))),0)) -> 1.2 | M21: =ROUND(IF(OR(LEFT(E21,2)="ĐA",LEFT(E21,2)="DA",LEFT(E21,5)="Đồ án",LEFT(E21,5)="Đồán "),J21*0.5,(IF(H21>0,H21*K21,"0")+IF(I21>0,(I21*0.75)*L21,"0"))),1) -> 72
K22: =IF(OR(LEFT(E22,2)="ĐA",LEFT(E22,2)="DA",LEFT(E22,5)="Đồ án",LEFT(E22,5)="Đồán ",LEFT(E22,9)="Sinh hoạt",LEFT(E22,9)="sinh hoạt",LEFT(E22,6)="Cố vấn",LEFT(E22,6)="cố vấn",LEFT(E22,4)="cvht",LEFT(E22,4)="CVHT",LEFT(E22,4)="shcn",LEFT(E22,4)="SHCN"),0,(IF(AND(H22>0,J22>0),IF(J22>60,1.3,IF(J22>35,1.2,1)),0))) -> 0 | L22: =IF(OR(LEFT(E22,2)="ĐA",LEFT(E22,2)="DA",LEFT(E22,5)="Đồ án",LEFT(E22,5)="Đồán "),0,IF(AND(J22>0,I22>0),IF(AND(OR(LEFT(E22,4)="GDQP",LEFT(E22,4)="gdqp",LEFT(E22,19)="Giáo dục quốc phòng"),J22>50),1.3,IF(J22>35,1.2,IF(J22>29,1.1,1))),0)) -> 0 | M22: =ROUND(IF(OR(LEFT(E22,2)="ĐA",LEFT(E22,2)="DA",LEFT(E22,5)="Đồ án",LEFT(E22,5)="Đồán "),J22*0.5,(IF(H22>0,H22*K22,"0")+IF(I22>0,(I22*0.75)*L22,"0"))),1) -> 0
K23: =IF(OR(LEFT(E23,2)="ĐA",LEFT(E23,2)="DA",LEFT(E23,5)="Đồ án",LEFT(E23,5)="Đồán ",LEFT(E23,9)="Sinh hoạt",LEFT(E23,9)="sinh hoạt",LEFT(E23,6)="Cố vấn",LEFT(E23,6)="cố vấn",LEFT(E23,4)="cvht",LEFT(E23,4)="CVHT",LEFT(E23,4)="shcn",LEFT(E23,4)="SHCN"),0,(IF(AND(H23>0,J23>0),IF(J23>60,1.3,IF(J23>35,1.2,1)),0))) -> 0 | L23: =IF(OR(LEFT(E23,2)="ĐA",LEFT(E23,2)="DA",LEFT(E23,5)="Đồ án",LEFT(E23,5)="Đồán "),0,IF(AND(J23>0,I23>0),IF(AND(OR(LEFT(E23,4)="GDQP",LEFT(E23,4)="gdqp",LEFT(E23,19)="Giáo dục quốc phòng"),J23>50),1.3,IF(J23>35,1.2,IF(J23>29,1.1,1))),0)) -> 0 | M23: =ROUND(IF(OR(LEFT(E23,2)="ĐA",LEFT(E23,2)="DA",LEFT(E23,5)="Đồ án",LEFT(E23,5)="Đồán "),J23*0.5,(IF(H23>0,H23*K23,"0")+IF(I23>0,(I23*0.75)*L23,"0"))),1) -> 0
K24: =IF(OR(LEFT(E24,2)="ĐA",LEFT(E24,2)="DA",LEFT(E24,5)="Đồ án",LEFT(E24,5)="Đồán ",LEFT(E24,9)="Sinh hoạt",LEFT(E24,9)="sinh hoạt",LEFT(E24,6)="Cố vấn",LEFT(E24,6)="cố vấn",LEFT(E24,4)="cvht",LEFT(E24,4)="CVHT",LEFT(E24,4)="shcn",LEFT(E24,4)="SHCN"),0,(IF(AND(H24>0,J24>0),IF(J24>60,1.3,IF(J24>35,1.2,1)),0))) -> 0 | L24: =IF(OR(LEFT(E24,2)="ĐA",LEFT(E24,2)="DA",LEFT(E24,5)="Đồ án",LEFT(E24,5)="Đồán "),0,IF(AND(J24>0,I24>0),IF(AND(OR(LEFT(E24,4)="GDQP",LEFT(E24,4)="gdqp",LEFT(E24,19)="Giáo dục quốc phòng"),J24>50),1.3,IF(J24>35,1.2,IF(J24>29,1.1,1))),0)) -> 0 | M24: =ROUND(IF(OR(LEFT(E24,2)="ĐA",LEFT(E24,2)="DA",LEFT(E24,5)="Đồ án",LEFT(E24,5)="Đồán "),J24*0.5,(IF(H24>0,H24*K24,"0")+IF(I24>0,(I24*0.75)*L24,"0"))),1) -> 0
K25: =IF(OR(LEFT(E25,2)="ĐA",LEFT(E25,2)="DA",LEFT(E25,5)="Đồ án",LEFT(E25,5)="Đồán ",LEFT(E25,9)="Sinh hoạt",LEFT(E25,9)="sinh hoạt",LEFT(E25,6)="Cố vấn",LEFT(E25,6)="cố vấn",LEFT(E25,4)="cvht",LEFT(E25,4)="CVHT",LEFT(E25,4)="shcn",LEFT(E25,4)="SHCN"),0,(IF(AND(H25>0,J25>0),IF(J25>60,1.3,IF(J25>35,1.2,1)),0))) -> 0 | L25: =IF(OR(LEFT(E25,2)="ĐA",LEFT(E25,2)="DA",LEFT(E25,5)="Đồ án",LEFT(E25,5)="Đồán "),0,IF(AND(J25>0,I25>0),IF(AND(OR(LEFT(E25,4)="GDQP",LEFT(E25,4)="gdqp",LEFT(E25,19)="Giáo dục quốc phòng"),J25>50),1.3,IF(J25>35,1.2,IF(J25>29,1.1,1))),0)) -> 0 | M25: =ROUND(IF(OR(LEFT(E25,2)="ĐA",LEFT(E25,2)="DA",LEFT(E25,5)="Đồ án",LEFT(E25,5)="Đồán "),J25*0.5,(IF(H25>0,H25*K25,"0")+IF(I25>0,(I25*0.75)*L25,"0"))),1) -> 0
K26: =IF(OR(LEFT(E26,2)="ĐA",LEFT(E26,2)="DA",LEFT(E26,5)="Đồ án",LEFT(E26,5)="Đồán ",LEFT(E26,9)="Sinh hoạt",LEFT(E26,9)="sinh hoạt",LEFT(E26,6)="Cố vấn",LEFT(E26,6)="cố vấn",LEFT(E26,4)="cvht",LEFT(E26,4)="CVHT",LEFT(E26,4)="shcn",LEFT(E26,4)="SHCN"),0,(IF(AND(H26>0,J26>0),IF(J26>60,1.3,IF(J26>35,1.2,1)),0))) -> 0 | L26: =IF(OR(LEFT(E26,2)="ĐA",LEFT(E26,2)="DA",LEFT(E26,5)="Đồ án",LEFT(E26,5)="Đồán "),0,IF(AND(J26>0,I26>0),IF(AND(OR(LEFT(E26,4)="GDQP",LEFT(E26,4)="gdqp",LEFT(E26,19)="Giáo dục quốc phòng"),J26>50),1.3,IF(J26>35,1.2,IF(J26>29,1.1,1))),0)) -> 0 | M26: =ROUND(IF(OR(LEFT(E26,2)="ĐA",LEFT(E26,2)="DA",LEFT(E26,5)="Đồ án",LEFT(E26,5)="Đồán "),J26*0.5,(IF(H26>0,H26*K26,"0")+IF(I26>0,(I26*0.75)*L26,"0"))),1) -> 0
K27: =IF(OR(LEFT(E27,2)="ĐA",LEFT(E27,2)="DA",LEFT(E27,5)="Đồ án",LEFT(E27,5)="Đồán ",LEFT(E27,9)="Sinh hoạt",LEFT(E27,9)="sinh hoạt",LEFT(E27,6)="Cố vấn",LEFT(E27,6)="cố vấn",LEFT(E27,4)="cvht",LEFT(E27,4)="CVHT",LEFT(E27,4)="shcn",LEFT(E27,4)="SHCN"),0,(IF(AND(H27>0,J27>0),IF(J27>60,1.3,IF(J27>35,1.2,1)),0))) -> 0 | L27: =IF(OR(LEFT(E27,2)="ĐA",LEFT(E27,2)="DA",LEFT(E27,5)="Đồ án",LEFT(E27,5)="Đồán "),0,IF(AND(J27>0,I27>0),IF(AND(OR(LEFT(E27,4)="GDQP",LEFT(E27,4)="gdqp",LEFT(E27,19)="Giáo dục quốc phòng"),J27>50),1.3,IF(J27>35,1.2,IF(J27>29,1.1,1))),0)) -> 0 | M27: =ROUND(IF(OR(LEFT(E27,2)="ĐA",LEFT(E27,2)="DA",LEFT(E27,5)="Đồ án",LEFT(E27,5)="Đồán "),J27*0.5,(IF(H27>0,H27*K27,"0")+IF(I27>0,(I27*0.75)*L27,"0"))),1) -> 0
K28: =IF(OR(LEFT(E28,2)="ĐA",LEFT(E28,2)="DA",LEFT(E28,5)="Đồ án",LEFT(E28,5)="Đồán ",LEFT(E28,9)="Sinh hoạt",LEFT(E28,9)="sinh hoạt",LEFT(E28,6)="Cố vấn",LEFT(E28,6)="cố vấn",LEFT(E28,4)="cvht",LEFT(E28,4)="CVHT",LEFT(E28,4)="shcn",LEFT(E28,4)="SHCN"),0,(IF(AND(H28>0,J28>0),IF(J28>60,1.3,IF(J28>35,1.2,1)),0))) -> 0 | L28: =IF(OR(LEFT(E28,2)="ĐA",LEFT(E28,2)="DA",LEFT(E28,5)="Đồ án",LEFT(E28,5)="Đồán "),0,IF(AND(J28>0,I28>0),IF(AND(OR(LEFT(E28,4)="GDQP",LEFT(E28,4)="gdqp",LEFT(E28,19)="Giáo dục quốc phòng"),J28>50),1.3,IF(J28>35,1.2,IF(J28>29,1.1,1))),0)) -> 0 | M28: =ROUND(IF(OR(LEFT(E28,2)="ĐA",LEFT(E28,2)="DA",LEFT(E28,5)="Đồ án",LEFT(E28,5)="Đồán "),J28*0.5,(IF(H28>0,H28*K28,"0")+IF(I28>0,(I28*0.75)*L28,"0"))),1) -> 0
K29: =IF(OR(LEFT(E29,2)="ĐA",LEFT(E29,2)="DA",LEFT(E29,5)="Đồ án",LEFT(E29,5)="Đồán ",LEFT(E29,9)="Sinh hoạt",LEFT(E29,9)="sinh hoạt",LEFT(E29,6)="Cố vấn",LEFT(E29,6)="cố vấn",LEFT(E29,4)="cvht",LEFT(E29,4)="CVHT",LEFT(E29,4)="shcn",LEFT(E29,4)="SHCN"),0,(IF(AND(H29>0,J29>0),IF(J29>60,1.3,IF(J29>35,1.2,1)),0))) -> 0 | L29: =IF(OR(LEFT(E29,2)="ĐA",LEFT(E29,2)="DA",LEFT(E29,5)="Đồ án",LEFT(E29,5)="Đồán "),0,IF(AND(J29>0,I29>0),IF(AND(OR(LEFT(E29,4)="GDQP",LEFT(E29,4)="gdqp",LEFT(E29,19)="Giáo dục quốc phòng"),J29>50),1.3,IF(J29>35,1.2,IF(J29>29,1.1,1))),0)) -> 0 | M29: =ROUND(IF(OR(LEFT(E29,2)="ĐA",LEFT(E29,2)="DA",LEFT(E29,5)="Đồ án",LEFT(E29,5)="Đồán "),J29*0.5,(IF(H29>0,H29*K29,"0")+IF(I29>0,(I29*0.75)*L29,"0"))),1) -> 0
K30: =IF(OR(LEFT(E30,2)="ĐA",LEFT(E30,2)="DA",LEFT(E30,5)="Đồ án",LEFT(E30,5)="Đồán ",LEFT(E30,9)="Sinh hoạt",LEFT(E30,9)="sinh hoạt",LEFT(E30,6)="Cố vấn",LEFT(E30,6)="cố vấn",LEFT(E30,4)="cvht",LEFT(E30,4)="CVHT",LEFT(E30,4)="shcn",LEFT(E30,4)="SHCN"),0,(IF(AND(H30>0,J30>0),IF(J30>60,1.3,IF(J30>35,1.2,1)),0))) -> 0 | L30: =IF(OR(LEFT(E30,2)="ĐA",LEFT(E30,2)="DA",LEFT(E30,5)="Đồ án",LEFT(E30,5)="Đồán "),0,IF(AND(J30>0,I30>0),IF(AND(OR(LEFT(E30,4)="GDQP",LEFT(E30,4)="gdqp",LEFT(E30,19)="Giáo dục quốc phòng"),J30>50),1.3,IF(J30>35,1.2,IF(J30>29,1.1,1))),0)) -> 0 | M30: =ROUND(IF(OR(LEFT(E30,2)="ĐA",LEFT(E30,2)="DA",LEFT(E30,5)="Đồ án",LEFT(E30,5)="Đồán "),J30*0.5,(IF(H30>0,H30*K30,"0")+IF(I30>0,(I30*0.75)*L30,"0"))),1) -> 0
A31: 2 | B31: Nguyễn | C31: Khoa | D31: 50600115501 | E31: Hệ quản trị cơ sở dữ liệu Microsoft Access | F31: 16TCN-QTM1 | G31: 1 | H31: 30 | J31: 55 | K31: =IF(OR(LEFT(E31,2)="ĐA",LEFT(E31,2)="DA",LEFT(E31,5)="Đồ án",LEFT(E31,5)="Đồán ",LEFT(E31,9)="Sinh hoạt",LEFT(E31,9)="sinh hoạt",LEFT(E31,6)="Cố vấn",LEFT(E31,6)="cố vấn",LEFT(E31,4)="cvht",LEFT(E31,4)="CVHT",LEFT(E31,4)="shcn",LEFT(E31,4)="SHCN"),0,(IF(AND(H31>0,J31>0),IF(J31>60,1.3,IF(J31>35,1.2,1)),0))) -> 1.2 | L31: =IF(OR(LEFT(E31,2)="ĐA",LEFT(E31,2)="DA",LEFT(E31,5)="Đồ án",LEFT(E31,5)="Đồán "),0,IF(AND(J31>0,I31>0),IF(AND(OR(LEFT(E31,4)="GDQP",LEFT(E31,4)="gdqp",LEFT(E31,19)="Giáo dục quốc phòng"),J31>50),1.3,IF(J31>35,1.2,IF(J31>29,1.1,1))),0)) -> 0 | M31: =ROUND(IF(OR(LEFT(E31,2)="ĐA",LEFT(E31,2)="DA",LEFT(E31,5)="Đồ án",LEFT(E31,5)="Đồán "),J31*0.5,(IF(H31>0,H31*K31,"0")+IF(I31>0,(I31*0.75)*L31,"0"))),1) -> 36 | N31: 213.8 | O31: 0 | P31: =SUM(M31:M50)+N31+O31 -> 949.9 | Q31: 0 | R31: 0 | S31: 450 | T31: 450 | U31: 112 | V31: 112 | W31: 56 | X31: 56 | Y31: =ROUND((P31-T31),1) -> 499.9 | Z31: =IF(OR(SUM(V31)="",SUM(Q31)=""),0,IF(OR(SUM(U31)=320,SUM(V31)>0),ROUND((SUM(Q31)-SUM(V31)),1),0)) -> -112 | AA31: =IF(OR(SUM(X31)="",SUM(R31)=""),0,IF(OR(SUM(W31)=160,SUM(X31)>0),ROUND((SUM(R31)-SUM(X31)),1),0)) -> -56 | AC31: =SUM(Y31:AA50) -> 331.9
E32: Hệ quản trị cơ sở dữ liệu Microsoft Access-N1 | F32: 16TCN-QTM2 | G32: 1 | I32: 60 | J32: 55 | K32: =IF(OR(LEFT(E32,2)="ĐA",LEFT(E32,2)="DA",LEFT(E32,5)="Đồ án",LEFT(E32,5)="Đồán ",LEFT(E32,9)="Sinh hoạt",LEFT(E32,9)="sinh hoạt",LEFT(E32,6)="Cố vấn",LEFT(E32,6)="cố vấn",LEFT(E32,4)="cvht",LEFT(E32,4)="CVHT",LEFT(E32,4)="shcn",LEFT(E32,4)="SHCN"),0,(IF(AND(H32>0,J32>0),IF(J32>60,1.3,IF(J32>35,1.2,1)),0))) -> 0 | L32: =IF(OR(LEFT(E32,2)="ĐA",LEFT(E32,2)="DA",LEFT(E32,5)="Đồ án",LEFT(E32,5)="Đồán "),0,IF(AND(J32>0,I32>0),IF(AND(OR(LEFT(E32,4)="GDQP",LEFT(E32,4)="gdqp",LEFT(E32,19)="Giáo dục quốc phòng"),J32>50),1.3,IF(J32>35,1.2,IF(J32>29,1.1,1))),0)) -> 1.2 | M32: =ROUND(IF(OR(LEFT(E32,2)="ĐA",LEFT(E32,2)="DA",LEFT(E32,5)="Đồ án",LEFT(E32,5)="Đồán "),J32*0.5,(IF(H32>0,H32*K32,"0")+IF(I32>0,(I32*0.75)*L32,"0"))),1) -> 54
E33: Hệ quản trị cơ sở dữ liệu Microsoft Access-N2 | F33: 16TCN-QTM3 | G33: 1 | I33: 60 | J33: 55 | K33: =IF(OR(LEFT(E33,2)="ĐA",LEFT(E33,2)="DA",LEFT(E33,5)="Đồ án",LEFT(E33,5)="Đồán ",LEFT(E33,9)="Sinh hoạt",LEFT(E33,9)="sinh hoạt",LEFT(E33,6)="Cố vấn",LEFT(E33,6)="cố vấn",LEFT(E33,4)="cvht",LEFT(E33,4)="CVHT",LEFT(E33,4)="shcn",LEFT(E33,4)="SHCN"),0,(IF(AND(H33>0,J33>0),IF(J33>60,1.3,IF(J33>35,1.2,1)),0))) -> 0 | L33: =IF(OR(LEFT(E33,2)="ĐA",LEFT(E33,2)="DA",LEFT(E33,5)="Đồ án",LEFT(E33,5)="Đồán "),0,IF(AND(J33>0,I33>0),IF(AND(OR(LEFT(E33,4)="GDQP",LEFT(E33,4)="gdqp",LEFT(E33,19)="Giáo dục quốc phòng"),J33>50),1.3,IF(J33>35,1.2,IF(J33>29,1.1,1))),0)) -> 1.2 | M33: =ROUND(IF(OR(LEFT(E33,2)="ĐA",LEFT(E33,2)="DA",LEFT(E33,5)="Đồ án",LEFT(E33,5)="Đồán "),J33*0.5,(IF(H33>0,H33*K33,"0")+IF(I33>0,(I33*0.75)*L33,"0"))),1) -> 54
D34: 41000092301 | E34: Lập trình quản lý | F34: 16TC-QTM | G34: 1 | H34: 30 | I34: 45 | J34: 30 | K34: =IF(OR(LEFT(E34,2)="ĐA",LEFT(E34,2)="DA",LEFT(E34,5)="Đồ án",LEFT(E34,5)="Đồán ",LEFT(E34,9)="Sinh hoạt",LEFT(E34,9)="sinh hoạt",LEFT(E34,6)="Cố vấn",LEFT(E34,6)="cố vấn",LEFT(E34,4)="cvht",LEFT(E34,4)="CVHT",LEFT(E34,4)="shcn",LEFT(E34,4)="SHCN"),0,(IF(AND(H34>0,J34>0),IF(J34>60,1.3,IF(J34>35,1.2,1)),0))) -> 1 | L34: =IF(OR(LEFT(E34,2)="ĐA",LEFT(E34,2)="DA",LEFT(E34,5)="Đồ án",LEFT(E34,5)="Đồán "),0,IF(AND(J34>0,I34>0),IF(AND(OR(LEFT(E34,4)="GDQP",LEFT(E34,4)="gdqp",LEFT(E34,19)="Giáo dục quốc phòng"),J34>50),1.3,IF(J34>35,1.2,IF(J34>29,1.1,1))),0)) -> 1.1 | M34: =ROUND(IF(OR(LEFT(E34,2)="ĐA",LEFT(E34,2)="DA",LEFT(E34,5)="Đồ án",LEFT(E34,5)="Đồán "),J34*0.5,(IF(H34>0,H34*K34,"0")+IF(I34>0,(I34*0.75)*L34,"0"))),1) -> 67.1
D35: 71400119919 | E35: Tin học | F35: 17T4-ĐĐT1 | G35: 1 | H35: 30 | I35: 60 | J35: 80 | K35: =IF(OR(LEFT(E35,2)="ĐA",LEFT(E35,2)="DA",LEFT(E35,5)="Đồ án",LEFT(E35,5)="Đồán ",LEFT(E35,9)="Sinh hoạt",LEFT(E35,9)="sinh hoạt",LEFT(E35,6)="Cố vấn",LEFT(E35,6)="cố vấn",LEFT(E35,4)="cvht",LEFT(E35,4)="CVHT",LEFT(E35,4)="shcn",LEFT(E35,4)="SHCN"),0,(IF(AND(H35>0,J35>0),IF(J35>60,1.3,IF(J35>35,1.2,1)),0))) -> 1.3 | L35: =IF(OR(LEFT(E35,2)="ĐA",LEFT(E35,2)="DA",LEFT(E35,5)="Đồ án",LEFT(E35,5)="Đồán "),0,IF(AND(J35>0,I35>0),IF(AND(OR(LEFT(E35,4)="GDQP",LEFT(E35,4)="gdqp",LEFT(E35,19)="Giáo dục quốc phòng"),J35>50),1.3,IF(J35>35,1.2,IF(J35>29,1.1,1))),0)) -> 1.2 | M35: =ROUND(IF(OR(LEFT(E35,2)="ĐA",LEFT(E35,2)="DA",LEFT(E35,5)="Đồ án",LEFT(E35,5)="Đồán "),J35*0.5,(IF(H35>0,H35*K35,"0")+IF(I35>0,(I35*0.75)*L35,"0"))),1) -> 93
E36: Hệ quản trị CSDL | F36: 18C1-TMĐ1 | G36: 2 | H36: 15 | I36: 60 | J36: 40 | K36: =IF(OR(LEFT(E36,2)="ĐA",LEFT(E36,2)="DA",LEFT(E36,5)="Đồ án",LEFT(E36,5)="Đồán ",LEFT(E36,9)="Sinh hoạt",LEFT(E36,9)="sinh hoạt",LEFT(E36,6)="Cố vấn",LEFT(E36,6)="cố vấn",LEFT(E36,4)="cvht",LEFT(E36,4)="CVHT",LEFT(E36,4)="shcn",LEFT(E36,4)="SHCN"),0,(IF(AND(H36>0,J36>0),IF(J36>60,1.3,IF(J36>35,1.2,1)),0))) -> 1.2 | L36: =IF(OR(LEFT(E36,2)="ĐA",LEFT(E36,2)="DA",LEFT(E36,5)="Đồ án",LEFT(E36,5)="Đồán "),0,IF(AND(J36>0,I36>0),IF(AND(OR(LEFT(E36,4)="GDQP",LEFT(E36,4)="gdqp",LEFT(E36,19)="Giáo dục quốc phòng"),J36>50),1.3,IF(J36>35,1.2,IF(J36>29,1.1,1))),0)) -> 1.2 | M36: =ROUND(IF(OR(LEFT(E36,2)="ĐA",LEFT(E36,2)="DA",LEFT(E36,5)="Đồ án",LEFT(E36,5)="Đồán "),J36*0.5,(IF(H36>0,H36*K36,"0")+IF(I36>0,(I36*0.75)*L36,"0"))),1) -> 72
E37: Tin học | F37: CĐ1 | G37: 2 | H37: 30 | I37: 60 | J37: 40 | K37: =IF(OR(LEFT(E37,2)="ĐA",LEFT(E37,2)="DA",LEFT(E37,5)="Đồ án",LEFT(E37,5)="Đồán ",LEFT(E37,9)="Sinh hoạt",LEFT(E37,9)="sinh hoạt",LEFT(E37,6)="Cố vấn",LEFT(E37,6)="cố vấn",LEFT(E37,4)="cvht",LEFT(E37,4)="CVHT",LEFT(E37,4)="shcn",LEFT(E37,4)="SHCN"),0,(IF(AND(H37>0,J37>0),IF(J37>60,1.3,IF(J37>35,1.2,1)),0))) -> 1.2 | L37: =IF(OR(LEFT(E37,2)="ĐA",LEFT(E37,2)="DA",LEFT(E37,5)="Đồ án",LEFT(E37,5)="Đồán "),0,IF(AND(J37>0,I37>0),IF(AND(OR(LEFT(E37,4)="GDQP",LEFT(E37,4)="gdqp",LEFT(E37,19)="Giáo dục quốc phòng"),J37>50),1.3,IF(J37>35,1.2,IF(J37>29,1.1,1))),0)) -> 1.2 | M37: =ROUND(IF(OR(LEFT(E37,2)="ĐA",LEFT(E37,2)="DA",LEFT(E37,5)="Đồ án",LEFT(E37,5)="Đồán "),J37*0.5,(IF(H37>0,H37*K37,"0")+IF(I37>0,(I37*0.75)*L37,"0"))),1) -> 90
E38: Tin học | F38: CĐ2 | G38: 2 | H38: 30 | I38: 60 | J38: 40 | K38: =IF(OR(LEFT(E38,2)="ĐA",LEFT(E38,2)="DA",LEFT(E38,5)="Đồ án",LEFT(E38,5)="Đồán ",LEFT(E38,9)="Sinh hoạt",LEFT(E38,9)="sinh hoạt",LEFT(E38,6)="Cố vấn",LEFT(E38,6)="cố vấn",LEFT(E38,4)="cvht",LEFT(E38,4)="CVHT",LEFT(E38,4)="shcn",LEFT(E38,4)="SHCN"),0,(IF(AND(H38>0,J38>0),IF(J38>60,1.3,IF(J38>35,1.2,1)),0))) -> 1.2 | L38: =IF(OR(LEFT(E38,2)="ĐA",LEFT(E38,2)="DA",LEFT(E38,5)="Đồ án",LEFT(E38,5)="Đồán "),0,IF(AND(J38>0,I38>0),IF(AND(OR(LEFT(E38,4)="GDQP",LEFT(E38,4)="gdqp",LEFT(E38,19)="Giáo dục quốc phòng"),J38>50),1.3,IF(J38>35,1.2,IF(J38>29,1.1,1))),0)) -> 1.2 | M38: =ROUND(IF(OR(LEFT(E38,2)="ĐA",LEFT(E38,2)="DA",LEFT(E38,5)="Đồ án",LEFT(E38,5)="Đồán "),J38*0.5,(IF(H38>0,H38*K38,"0")+IF(I38>0,(I38*0.75)*L38,"0"))),1) -> 90
E39: Tin học | F39: TC1 | G39: 2 | H39: 30 | I39: 60 | J39: 40 | K39: =IF(OR(LEFT(E39,2)="ĐA",LEFT(E39,2)="DA",LEFT(E39,5)="Đồ án",LEFT(E39,5)="Đồán ",LEFT(E39,9)="Sinh hoạt",LEFT(E39,9)="sinh hoạt",LEFT(E39,6)="Cố vấn",LEFT(E39,6)="cố vấn",LEFT(E39,4)="cvht",LEFT(E39,4)="CVHT",LEFT(E39,4)="shcn",LEFT(E39,4)="SHCN"),0,(IF(AND(H39>0,J39>0),IF(J39>60,1.3,IF(J39>35,1.2,1)),0))) -> 1.2 | L39: =IF(OR(LEFT(E39,2)="ĐA",LEFT(E39,2)="DA",LEFT(E39,5)="Đồ án",LEFT(E39,5)="Đồán "),0,IF(AND(J39>0,I39>0),IF(AND(OR(LEFT(E39,4)="GDQP",LEFT(E39,4)="gdqp",LEFT(E39,19)="Giáo dục quốc phòng"),J39>50),1.3,IF(J39>35,1.2,IF(J39>29,1.1,1))),0)) -> 1.2 | M39: =ROUND(IF(OR(LEFT(E39,2)="ĐA",LEFT(E39,2)="DA",LEFT(E39,5)="Đồ án",LEFT(E39,5)="Đồán "),J39*0.5,(IF(H39>0,H39*K39,"0")+IF(I39>0,(I39*0.75)*L39,"0"))),1) -> 90
E40: Tin học | F40: TC2 | G40: 2 | H40: 30 | I40: 60 | J40: 40 | K40: =IF(OR(LEFT(E40,2)="ĐA",LEFT(E40,2)="DA",LEFT(E40,5)="Đồ án",LEFT(E40,5)="Đồán ",LEFT(E40,9)="Sinh hoạt",LEFT(E40,9)="sinh hoạt",LEFT(E40,6)="Cố vấn",LEFT(E40,6)="cố vấn",LEFT(E40,4)="cvht",LEFT(E40,4)="CVHT",LEFT(E40,4)="shcn",LEFT(E40,4)="SHCN"),0,(IF(AND(H40>0,J40>0),IF(J40>60,1.3,IF(J40>35,1.2,1)),0))) -> 1.2 | L40: =IF(OR(LEFT(E40,2)="ĐA",LEFT(E40,2)="DA",LEFT(E40,5)="Đồ án",LEFT(E40,5)="Đồán "),0,IF(AND(J40>0,I40>0),IF(AND(OR(LEFT(E40,4)="GDQP",LEFT(E40,4)="gdqp",LEFT(E40,19)="Giáo dục quốc phòng"),J40>50),1.3,IF(J40>35,1.2,IF(J40>29,1.1,1))),0)) -> 1.2 | M40: =ROUND(IF(OR(LEFT(E40,2)="ĐA",LEFT(E40,2)="DA",LEFT(E40,5)="Đồ án",LEFT(E40,5)="Đồán "),J40*0.5,(IF(H40>0,H40*K40,"0")+IF(I40>0,(I40*0.75)*L40,"0"))),1) -> 90
K42: =IF(OR(LEFT(E42,2)="ĐA",LEFT(E42,2)="DA",LEFT(E42,5)="Đồ án",LEFT(E42,5)="Đồán ",LEFT(E42,9)="Sinh hoạt",LEFT(E42,9)="sinh hoạt",LEFT(E42,6)="Cố vấn",LEFT(E42,6)="cố vấn",LEFT(E42,4)="cvht",LEFT(E42,4)="CVHT",LEFT(E42,4)="shcn",LEFT(E42,4)="SHCN"),0,(IF(AND(H42>0,J42>0),IF(J42>60,1.3,IF(J42>35,1.2,1)),0))) -> 0 | L42: =IF(OR(LEFT(E42,2)="ĐA",LEFT(E42,2)="DA",LEFT(E42,5)="Đồ án",LEFT(E42,5)="Đồán "),0,IF(AND(J42>0,I42>0),IF(AND(OR(LEFT(E42,4)="GDQP",LEFT(E42,4)="gdqp",LEFT(E42,19)="Giáo dục quốc phòng"),J42>50),1.3,IF(J42>35,1.2,IF(J42>29,1.1,1))),0)) -> 0 | M42: =ROUND(IF(OR(LEFT(E42,2)="ĐA",LEFT(E42,2)="DA",LEFT(E42,5)="Đồ án",LEFT(E42,5)="Đồán "),J42*0.5,(IF(H42>0,H42*K42,"0")+IF(I42>0,(I42*0.75)*L42,"0"))),1) -> 0
...

Sheet Sheet1
A1: 18T4-QTM | B1: 60
A2: 18C1-TKĐ1 | B2: 70
A3: 18C1-QTM | B3: 62
A4: 16CĐTP | B4: 65
